BEGIN:VCALENDAR
VERSION:2.0
X-WR-CALNAME:EventsCalendar
CALSCALE:GREGORIAN
BEGIN:VTIMEZONE
TZID:America/Chicago
LAST-MODIFIED:20231222T233358Z
TZURL:https://www.tzurl.org/zoneinfo-outlook/America/Chicago
X-LIC-LOCATION:America/Chicago
BEGIN:DAYLIGHT
TZNAME:CDT
TZOFFSETFROM:-0600
TZOFFSETTO:-0500
DTSTART:19700308T020000
RRULE:FREQ=YEARLY;BYMONTH=3;BYDAY=2SU
END:DAYLIGHT
BEGIN:STANDARD
TZNAME:CST
TZOFFSETFROM:-0500
TZOFFSETTO:-0600
DTSTART:19701101T020000
RRULE:FREQ=YEARLY;BYMONTH=11;BYDAY=1SU
END:STANDARD
END:VTIMEZONE
BEGIN:VEVENT
CATEGORIES:Category,Academic Calendar,Location,All Locations
DESCRIPTION:Today is the deadline for faculty to verify student participation in Fall first eight-week session&amp;nbsp;classes (census).118118
DTSTAMP:20260422T184047
DTSTART;TZID=America/Chicago:20250902T000000
DTEND;TZID=America/Chicago:20250902T235900
LOCATION:All Locations
SUMMARY;LANGUAGE=en-us:Faculty Verify Participation Deadline (Census) (First Eight-Week Fall Session)
UID:ac9051cf802bfbf397e8479445dd1a2b@www.dallascollege.edu
END:VEVENT
END:VCALENDAR
