BEGIN:VCALENDAR
VERSION:2.0
X-WR-CALNAME:EventsCalendar
CALSCALE:GREGORIAN
BEGIN:VTIMEZONE
TZID:America/Chicago
LAST-MODIFIED:20231222T233358Z
TZURL:https://www.tzurl.org/zoneinfo-outlook/America/Chicago
X-LIC-LOCATION:America/Chicago
BEGIN:DAYLIGHT
TZNAME:CDT
TZOFFSETFROM:-0600
TZOFFSETTO:-0500
DTSTART:19700308T020000
RRULE:FREQ=YEARLY;BYMONTH=3;BYDAY=2SU
END:DAYLIGHT
BEGIN:STANDARD
TZNAME:CST
TZOFFSETFROM:-0500
TZOFFSETTO:-0600
DTSTART:19701101T020000
RRULE:FREQ=YEARLY;BYMONTH=11;BYDAY=1SU
END:STANDARD
END:VTIMEZONE
BEGIN:VEVENT
CATEGORIES:Category,Arts and Culture,Location,Mountain View,Tag,Music
DESCRIPTION:Join us for a special evening featuring a performance by a renowned invited artist! Experience an unforgettable night of exceptional music, blending world-class talent with dynamic artistry. Don&#039;t miss this unique opportunity to hear a true master perform live! Location: Mountain View Campus, Bldg. E, Rm. E127118129
DTSTAMP:20260422T181956
DTSTART;TZID=America/Chicago:20250911T193000
DTEND;TZID=America/Chicago:20250911T203000
LOCATION:Mountain View
SUMMARY;LANGUAGE=en-us:CANCELLED Mountain View Music Concert
UID:574206b5b4b3611cea3680893d243166@www.dallascollege.edu
END:VEVENT
END:VCALENDAR
