BEGIN:VCALENDAR
VERSION:2.0
X-WR-CALNAME:EventsCalendar
CALSCALE:GREGORIAN
BEGIN:VTIMEZONE
TZID:America/Chicago
LAST-MODIFIED:20231222T233358Z
TZURL:https://www.tzurl.org/zoneinfo-outlook/America/Chicago
X-LIC-LOCATION:America/Chicago
BEGIN:DAYLIGHT
TZNAME:CDT
TZOFFSETFROM:-0600
TZOFFSETTO:-0500
DTSTART:19700308T020000
RRULE:FREQ=YEARLY;BYMONTH=3;BYDAY=2SU
END:DAYLIGHT
BEGIN:STANDARD
TZNAME:CST
TZOFFSETFROM:-0500
TZOFFSETTO:-0600
DTSTART:19701101T020000
RRULE:FREQ=YEARLY;BYMONTH=11;BYDAY=1SU
END:STANDARD
END:VTIMEZONE
BEGIN:VEVENT
CATEGORIES:Category,Arts and Culture,Location,Richland,Tag,Music
DESCRIPTION:Experience the grandeur of live music at our Orchestra and Chamber Strings concert! Enjoy the rich, full sound of the orchestra paired with the intimate beauty of chamber strings. From sweeping symphonic masterpieces to delicate chamber pieces, this concert promises to take you on an unforgettable musical journey. Join us for an evening of elegance, emotion, and exquisite artistry&amp;acirc;&amp;euro;&amp;rdquo;don&amp;acirc;&amp;euro;&amp;trade;t miss it! Location: Richland Campus, Fannin Hall, Rm. F102118131
DTSTAMP:20260422T182734
DTSTART;TZID=America/Chicago:20251009T193000
DTEND;TZID=America/Chicago:20251009T213000
LOCATION:Richland
SUMMARY;LANGUAGE=en-us:Orchestra and Chamber Strings Concert
UID:8d041485c3e3d83a835ecad5575d5efe@www.dallascollege.edu
END:VEVENT
END:VCALENDAR
