BEGIN:VCALENDAR
VERSION:2.0
X-WR-CALNAME:EventsCalendar
CALSCALE:GREGORIAN
BEGIN:VTIMEZONE
TZID:America/Chicago
LAST-MODIFIED:20231222T233358Z
TZURL:https://www.tzurl.org/zoneinfo-outlook/America/Chicago
X-LIC-LOCATION:America/Chicago
BEGIN:DAYLIGHT
TZNAME:CDT
TZOFFSETFROM:-0600
TZOFFSETTO:-0500
DTSTART:19700308T020000
RRULE:FREQ=YEARLY;BYMONTH=3;BYDAY=2SU
END:DAYLIGHT
BEGIN:STANDARD
TZNAME:CST
TZOFFSETFROM:-0500
TZOFFSETTO:-0600
DTSTART:19701101T020000
RRULE:FREQ=YEARLY;BYMONTH=11;BYDAY=1SU
END:STANDARD
END:VTIMEZONE
BEGIN:VEVENT
CATEGORIES:Category,Arts and Culture,Location,Eastfield,Tag,Dance
DESCRIPTION:Join us for an evening of artistry and innovation at the Faculty Dance Concert! Watch our talented faculty members showcase their creativity through dynamic and thought-provoking performances. This is a unique opportunity to experience the depth and passion of professional dancers in an intimate setting! Location: Eastfield Campus, Bldg. F, Rm. F210 (Performance Hall)118135
DTSTAMP:20260422T202441
DTSTART;TZID=America/Chicago:20251023T193000
DTEND;TZID=America/Chicago:20251023T213000
LOCATION:Eastfield
SUMMARY;LANGUAGE=en-us:Faculty Dance Concert
UID:a5b73c9c859e6a5ccb20785b3627dfe4@www.dallascollege.edu
END:VEVENT
END:VCALENDAR
