BEGIN:VCALENDAR
VERSION:2.0
X-WR-CALNAME:EventsCalendar
CALSCALE:GREGORIAN
BEGIN:VTIMEZONE
TZID:America/Chicago
LAST-MODIFIED:20231222T233358Z
TZURL:https://www.tzurl.org/zoneinfo-outlook/America/Chicago
X-LIC-LOCATION:America/Chicago
BEGIN:DAYLIGHT
TZNAME:CDT
TZOFFSETFROM:-0600
TZOFFSETTO:-0500
DTSTART:19700308T020000
RRULE:FREQ=YEARLY;BYMONTH=3;BYDAY=2SU
END:DAYLIGHT
BEGIN:STANDARD
TZNAME:CST
TZOFFSETFROM:-0500
TZOFFSETTO:-0600
DTSTART:19701101T020000
RRULE:FREQ=YEARLY;BYMONTH=11;BYDAY=1SU
END:STANDARD
END:VTIMEZONE
BEGIN:VEVENT
CATEGORIES:Category,Arts and Culture,Location,Mountain View,Tag,Music
DESCRIPTION:The Mountain View Music department is proud to host Dallas Symphony Orchestra cellist Zexun Shen, and Dallas College piano faculty Fenia Chang, in a duet performance featuring the music of Ludwig van Beethoven, Robert Schumann, and Leo&amp;scaron; Jan&amp;aacute;ček. Admission is free and open to all, and we hope you will join us for this spectacular duet concert. Location: Mountain View Campus, Bldg. E, Rm. E127118140
DTSTAMP:20260423T024055
DTSTART;TZID=America/Chicago:20251106T193000
DTEND;TZID=America/Chicago:20251106T203000
LOCATION:Mountain View
SUMMARY;LANGUAGE=en-us:Mountain View Concert Series: Cello and Piano Recital featuring Zexun Shen and Fenia Chang
UID:edc0b900ebb6957329c6c9e6e3f95bf0@www.dallascollege.edu
END:VEVENT
END:VCALENDAR
