BEGIN:VCALENDAR
VERSION:2.0
X-WR-CALNAME:EventsCalendar
CALSCALE:GREGORIAN
BEGIN:VTIMEZONE
TZID:America/Chicago
LAST-MODIFIED:20231222T233358Z
TZURL:https://www.tzurl.org/zoneinfo-outlook/America/Chicago
X-LIC-LOCATION:America/Chicago
BEGIN:DAYLIGHT
TZNAME:CDT
TZOFFSETFROM:-0600
TZOFFSETTO:-0500
DTSTART:19700308T020000
RRULE:FREQ=YEARLY;BYMONTH=3;BYDAY=2SU
END:DAYLIGHT
BEGIN:STANDARD
TZNAME:CST
TZOFFSETFROM:-0500
TZOFFSETTO:-0600
DTSTART:19701101T020000
RRULE:FREQ=YEARLY;BYMONTH=11;BYDAY=1SU
END:STANDARD
END:VTIMEZONE
BEGIN:VEVENT
CATEGORIES:Category,Arts and Culture,Location,North Lake,Tag,Music
DESCRIPTION:Join us for an inspiring Choral concert featuring the combined choirs from North Lake, Richland, Eastfield and Cedar Valley campuses! Enjoy a powerful evening of beautiful choral music performed by talented students, featuring a diverse program that will leave you moved and uplifted. Don&#039;t miss this musical celebration! Location: North Lake Campus, Bldg. P, Rm. P302118141
DTSTAMP:20260422T182342
DTSTART;TZID=America/Chicago:20251112T193000
DTEND;TZID=America/Chicago:20251112T203000
LOCATION:North Lake
SUMMARY;LANGUAGE=en-us:Crossroads: A Choral Concert featuring Dallas College Choirs
UID:913ab3106fe5eca6181ba101b53164bc@www.dallascollege.edu
END:VEVENT
END:VCALENDAR
