BEGIN:VCALENDAR
VERSION:2.0
X-WR-CALNAME:EventsCalendar
CALSCALE:GREGORIAN
BEGIN:VTIMEZONE
TZID:America/Chicago
LAST-MODIFIED:20231222T233358Z
TZURL:https://www.tzurl.org/zoneinfo-outlook/America/Chicago
X-LIC-LOCATION:America/Chicago
BEGIN:DAYLIGHT
TZNAME:CDT
TZOFFSETFROM:-0600
TZOFFSETTO:-0500
DTSTART:19700308T020000
RRULE:FREQ=YEARLY;BYMONTH=3;BYDAY=2SU
END:DAYLIGHT
BEGIN:STANDARD
TZNAME:CST
TZOFFSETFROM:-0500
TZOFFSETTO:-0600
DTSTART:19701101T020000
RRULE:FREQ=YEARLY;BYMONTH=11;BYDAY=1SU
END:STANDARD
END:VTIMEZONE
BEGIN:VEVENT
CATEGORIES:Category,Arts and Culture,Location,Brookhaven,Tag,Dance
DESCRIPTION:Don&#039;t miss the exciting combined dance show featuring talented dancers from both the Richland and Brookhaven campuses! Experience a dynamic blend of styles, choreography, and performances that highlight the creativity and passion of our students. Join us for an unforgettable evening of movement, energy, and collaboration! Location: Brookhaven Campus, Bldg. C, Rm. C210 (Performance Hall)118143
DTSTAMP:20260422T233609
DTSTART;TZID=America/Chicago:20251114T183000
DTEND;TZID=America/Chicago:20251114T203000
LOCATION:Brookhaven
SUMMARY;LANGUAGE=en-us:BHC and RLC Joint Dance Concert
UID:a26bfe4b739cb50e5fb6b3e2bb193b42@www.dallascollege.edu
END:VEVENT
END:VCALENDAR
