BEGIN:VCALENDAR
VERSION:2.0
X-WR-CALNAME:EventsCalendar
CALSCALE:GREGORIAN
BEGIN:VTIMEZONE
TZID:America/Chicago
LAST-MODIFIED:20231222T233358Z
TZURL:https://www.tzurl.org/zoneinfo-outlook/America/Chicago
X-LIC-LOCATION:America/Chicago
BEGIN:DAYLIGHT
TZNAME:CDT
TZOFFSETFROM:-0600
TZOFFSETTO:-0500
DTSTART:19700308T020000
RRULE:FREQ=YEARLY;BYMONTH=3;BYDAY=2SU
END:DAYLIGHT
BEGIN:STANDARD
TZNAME:CST
TZOFFSETFROM:-0500
TZOFFSETTO:-0600
DTSTART:19701101T020000
RRULE:FREQ=YEARLY;BYMONTH=11;BYDAY=1SU
END:STANDARD
END:VTIMEZONE
BEGIN:VEVENT
CATEGORIES:Category,Arts and Culture,Location,Brookhaven,Tag,Dance
DESCRIPTION:Don&#039;t miss the exciting combined dance show featuring talented dancers from both the Richland and Brookhaven campuses! Experience a dynamic blend of styles, choreography, and performances that highlight the creativity and passion of our students. Join us for an unforgettable evening of movement, energy, and collaboration! Location: Brookhaven Campus, Bldg. C, Rm. C210 (Performance Hall)118145
DTSTAMP:20260422T140538
DTSTART;TZID=America/Chicago:20251115T143000
DTEND;TZID=America/Chicago:20251115T163000
LOCATION:Brookhaven
SUMMARY;LANGUAGE=en-us:BHC and RLC Joint Dance Concert
UID:79b47dbc0520bf1d9b76f978d0982b5f@www.dallascollege.edu
END:VEVENT
END:VCALENDAR
