BEGIN:VCALENDAR
VERSION:2.0
X-WR-CALNAME:EventsCalendar
CALSCALE:GREGORIAN
BEGIN:VTIMEZONE
TZID:America/Chicago
LAST-MODIFIED:20231222T233358Z
TZURL:https://www.tzurl.org/zoneinfo-outlook/America/Chicago
X-LIC-LOCATION:America/Chicago
BEGIN:DAYLIGHT
TZNAME:CDT
TZOFFSETFROM:-0600
TZOFFSETTO:-0500
DTSTART:19700308T020000
RRULE:FREQ=YEARLY;BYMONTH=3;BYDAY=2SU
END:DAYLIGHT
BEGIN:STANDARD
TZNAME:CST
TZOFFSETFROM:-0500
TZOFFSETTO:-0600
DTSTART:19701101T020000
RRULE:FREQ=YEARLY;BYMONTH=11;BYDAY=1SU
END:STANDARD
END:VTIMEZONE
BEGIN:VEVENT
CATEGORIES:Category,Arts and Culture,Location,Richland,Tag,Music
DESCRIPTION:Join us for a spectacular evening of symphonic brilliance at our upcoming instrumental concert! Featuring a full orchestra, this performance will showcase powerful, sweeping compositions that bring together the dynamic range and depth of symphonic music. From stirring movements to breathtaking solos, this concert promises an unforgettable journey through some of the greatest orchestral works. Don&#039;t miss this opportunity to experience the full force of live symphonic music! Location: Richland Campus, Fannin Hall, Rm. F102118150
DTSTAMP:20260422T183954
DTSTART;TZID=America/Chicago:20251120T193000
DTEND;TZID=America/Chicago:20251120T210000
LOCATION:Richland
SUMMARY;LANGUAGE=en-us:Symphonic Instrumental Concert
UID:9e84473b364eb6990ea1828fbf299965@www.dallascollege.edu
END:VEVENT
END:VCALENDAR
