BEGIN:VCALENDAR
VERSION:2.0
X-WR-CALNAME:EventsCalendar
CALSCALE:GREGORIAN
BEGIN:VTIMEZONE
TZID:America/Chicago
LAST-MODIFIED:20231222T233358Z
TZURL:https://www.tzurl.org/zoneinfo-outlook/America/Chicago
X-LIC-LOCATION:America/Chicago
BEGIN:DAYLIGHT
TZNAME:CDT
TZOFFSETFROM:-0600
TZOFFSETTO:-0500
DTSTART:19700308T020000
RRULE:FREQ=YEARLY;BYMONTH=3;BYDAY=2SU
END:DAYLIGHT
BEGIN:STANDARD
TZNAME:CST
TZOFFSETFROM:-0500
TZOFFSETTO:-0600
DTSTART:19701101T020000
RRULE:FREQ=YEARLY;BYMONTH=11;BYDAY=1SU
END:STANDARD
END:VTIMEZONE
BEGIN:VEVENT
CATEGORIES:Category,Arts and Culture,Location,Richland,Tag,Music
DESCRIPTION:Don&#039;t miss an unforgettable evening of music at our guitar concert! Featuring a diverse range of styles and performances, this concert will showcase the incredible talent and passion of our guitarists. From classical to contemporary, the night promises captivating melodies and virtuosic playing. Come experience the magic of live guitar music in an intimate and exciting performance! Location: Richland Campus, Fannin Hall, Rm. F102118161
DTSTAMP:20260422T184050
DTSTART;TZID=America/Chicago:20251203T193000
DTEND;TZID=America/Chicago:20251203T210000
LOCATION:Richland
SUMMARY;LANGUAGE=en-us:Guitar Concert
UID:4002729f5f28d28711f16c6bf2b57072@www.dallascollege.edu
END:VEVENT
END:VCALENDAR
