BEGIN:VCALENDAR
VERSION:2.0
X-WR-CALNAME:EventsCalendar
CALSCALE:GREGORIAN
BEGIN:VTIMEZONE
TZID:America/Chicago
LAST-MODIFIED:20231222T233358Z
TZURL:https://www.tzurl.org/zoneinfo-outlook/America/Chicago
X-LIC-LOCATION:America/Chicago
BEGIN:DAYLIGHT
TZNAME:CDT
TZOFFSETFROM:-0600
TZOFFSETTO:-0500
DTSTART:19700308T020000
RRULE:FREQ=YEARLY;BYMONTH=3;BYDAY=2SU
END:DAYLIGHT
BEGIN:STANDARD
TZNAME:CST
TZOFFSETFROM:-0500
TZOFFSETTO:-0600
DTSTART:19701101T020000
RRULE:FREQ=YEARLY;BYMONTH=11;BYDAY=1SU
END:STANDARD
END:VTIMEZONE
BEGIN:VEVENT
CATEGORIES:Category,Counseling and Psychological Services,Location,Online
DESCRIPTION:Tools to Thrive&amp;nbsp;workshop series provides practical skills and strategies to enhance productivity and well-being. Time Management - techniques to manage your time! Location: Brookhaven Campus, Virtual&amp;nbsp; This event is hosted by Dallas College Counseling and Psychological Services (CAPS). CAPS provides free mental health counseling services to Dallas College students. For questions or appointment requests, email Counseling@DallasCollege.edu. If you&#039;re interested in attending more CAPS events, visit DallasCollege.edu/CounselingEvents. Your world can be stressful - we&#039;re here to help. To meet our team of counselors, students can visit DallasCollege.edu/Counselors.118188
DTSTAMP:20260422T182733
DTSTART;TZID=America/Chicago:20250925T133000
DTEND;TZID=America/Chicago:20250925T143000
LOCATION:Online
SUMMARY;LANGUAGE=en-us:Tools to Thrive Series:  Tick Tock Where Does Time go? Strategies to Manage Your Time
UID:3e4a589c8c99372d8ab7467cfe3c3329@www.dallascollege.edu
END:VEVENT
END:VCALENDAR
