BEGIN:VCALENDAR
VERSION:2.0
X-WR-CALNAME:EventsCalendar
CALSCALE:GREGORIAN
BEGIN:VTIMEZONE
TZID:America/Chicago
LAST-MODIFIED:20231222T233358Z
TZURL:https://www.tzurl.org/zoneinfo-outlook/America/Chicago
X-LIC-LOCATION:America/Chicago
BEGIN:DAYLIGHT
TZNAME:CDT
TZOFFSETFROM:-0600
TZOFFSETTO:-0500
DTSTART:19700308T020000
RRULE:FREQ=YEARLY;BYMONTH=3;BYDAY=2SU
END:DAYLIGHT
BEGIN:STANDARD
TZNAME:CST
TZOFFSETFROM:-0500
TZOFFSETTO:-0600
DTSTART:19701101T020000
RRULE:FREQ=YEARLY;BYMONTH=11;BYDAY=1SU
END:STANDARD
END:VTIMEZONE
BEGIN:VEVENT
CATEGORIES:Category,Student Life,Location,All Seven Campuses,Tag,Hand In Hand (Foster Care),Tag,Support Programs,Tag,Male Achievement Program,Tag,Military-Connected Services
DESCRIPTION:Support Programs welcomes students to visit our suite of shared office spaces on campus. Connect with program leads, learn about upcoming events, and enjoy some food and games. Locations: Brookhaven Campus - Room S129 Cedar Valley Campus - Room C104 Eastfield Campus - Room C112 El Centro Campus - Room A030 Mountain View Campus - Room S1032 North Lake Campus - Room H220 Richland Campus - Room E081 118195
DTSTAMP:20260423T023949
DTSTART;TZID=America/Chicago:20250902T110000
DTEND;TZID=America/Chicago:20250902T130000
LOCATION:All Seven Campuses
SUMMARY;LANGUAGE=en-us:Support Programs Suite Warming
UID:cb61b7e16039a69bcfde44a1c3aff56a@www.dallascollege.edu
END:VEVENT
END:VCALENDAR
