BEGIN:VCALENDAR
VERSION:2.0
X-WR-CALNAME:EventsCalendar
CALSCALE:GREGORIAN
BEGIN:VTIMEZONE
TZID:America/Chicago
LAST-MODIFIED:20231222T233358Z
TZURL:https://www.tzurl.org/zoneinfo-outlook/America/Chicago
X-LIC-LOCATION:America/Chicago
BEGIN:DAYLIGHT
TZNAME:CDT
TZOFFSETFROM:-0600
TZOFFSETTO:-0500
DTSTART:19700308T020000
RRULE:FREQ=YEARLY;BYMONTH=3;BYDAY=2SU
END:DAYLIGHT
BEGIN:STANDARD
TZNAME:CST
TZOFFSETFROM:-0500
TZOFFSETTO:-0600
DTSTART:19701101T020000
RRULE:FREQ=YEARLY;BYMONTH=11;BYDAY=1SU
END:STANDARD
END:VTIMEZONE
BEGIN:VEVENT
CATEGORIES:Category,Student Life,Location,Mountain View,Tag,Intercultural/Global Events 
DESCRIPTION:During the Mid-Autumn Festival, lanterns symbolize beacons that light the path to prosperity and good fortune. In that same spirit, our new name and structure serve as a guiding light for our future, illuminating new opportunities and growth. Our open house is a celebration of this transformation, and we look forward to sharing it with our community. We invite the Dallas College community to join us for our fall open house celebration. Location: Mountain View Campus, Building S Courtyard and Cafeteria &amp;nbsp;118197
DTSTAMP:20260422T182737
DTSTART;TZID=America/Chicago:20250903T100000
DTEND;TZID=America/Chicago:20250903T130000
LOCATION:Mountain View
SUMMARY;LANGUAGE=en-us:Office of Intercultural and Global Student Engagement Open House (Mountain View)
UID:5a1ed4ca273e622b7b34b05c91bce15f@www.dallascollege.edu
END:VEVENT
END:VCALENDAR
