BEGIN:VCALENDAR
VERSION:2.0
X-WR-CALNAME:EventsCalendar
CALSCALE:GREGORIAN
BEGIN:VTIMEZONE
TZID:America/Chicago
LAST-MODIFIED:20231222T233358Z
TZURL:https://www.tzurl.org/zoneinfo-outlook/America/Chicago
X-LIC-LOCATION:America/Chicago
BEGIN:DAYLIGHT
TZNAME:CDT
TZOFFSETFROM:-0600
TZOFFSETTO:-0500
DTSTART:19700308T020000
RRULE:FREQ=YEARLY;BYMONTH=3;BYDAY=2SU
END:DAYLIGHT
BEGIN:STANDARD
TZNAME:CST
TZOFFSETFROM:-0500
TZOFFSETTO:-0600
DTSTART:19701101T020000
RRULE:FREQ=YEARLY;BYMONTH=11;BYDAY=1SU
END:STANDARD
END:VTIMEZONE
BEGIN:VEVENT
CATEGORIES:Category,Other,Location,Cedar Valley,Tag,Carter Blood Care Blood Drives
DESCRIPTION:Join us for a life-saving opportunity at our upcoming Blood Drive! Your participation can make a significant impact and help save lives in our community. Blood drives play a crucial role in maintaining an adequate blood supply for hospitals and medical facilities and help those undergoing surgeries, dealing with medical condition, or facing emergencies. Walk-up appointments are welcome, but advance sign-up is preferred. Location: Mobile Blood Drive Unit, Sun Plaza Parking Lot118220
DTSTAMP:20260422T233104
DTSTART;TZID=America/Chicago:20250916T100000
DTEND;TZID=America/Chicago:20250916T150000
LOCATION:Cedar Valley
SUMMARY;LANGUAGE=en-us:Carter BloodCare Blood Drive (Cedar Valley)
UID:7394fae57d4c29f507a2e88dc609c5c4@www.dallascollege.edu
END:VEVENT
BEGIN:VEVENT
CATEGORIES:Category,Other,Location,Cedar Valley,Tag,Carter Blood Care Blood Drives
DESCRIPTION:Join us for a life-saving opportunity at our upcoming Blood Drive! Your participation can make a significant impact and help save lives in our community. Blood drives play a crucial role in maintaining an adequate blood supply for hospitals and medical facilities and help those undergoing surgeries, dealing with medical condition, or facing emergencies. Walk-up appointments are welcome, but advance sign-up is preferred. Location: Mobile Blood Drive Unit, Sun Plaza Parking Lot118220
DTSTAMP:20260422T233104
DTSTART;TZID=America/Chicago:20250917T100000
DTEND;TZID=America/Chicago:20250917T150000
LOCATION:Cedar Valley
SUMMARY;LANGUAGE=en-us:Carter BloodCare Blood Drive (Cedar Valley)
UID:a9eabdac754fbedc4681e5ac62811588@www.dallascollege.edu
END:VEVENT
END:VCALENDAR
