BEGIN:VCALENDAR
VERSION:2.0
X-WR-CALNAME:EventsCalendar
CALSCALE:GREGORIAN
BEGIN:VTIMEZONE
TZID:America/Chicago
LAST-MODIFIED:20231222T233358Z
TZURL:https://www.tzurl.org/zoneinfo-outlook/America/Chicago
X-LIC-LOCATION:America/Chicago
BEGIN:DAYLIGHT
TZNAME:CDT
TZOFFSETFROM:-0600
TZOFFSETTO:-0500
DTSTART:19700308T020000
RRULE:FREQ=YEARLY;BYMONTH=3;BYDAY=2SU
END:DAYLIGHT
BEGIN:STANDARD
TZNAME:CST
TZOFFSETFROM:-0500
TZOFFSETTO:-0600
DTSTART:19701101T020000
RRULE:FREQ=YEARLY;BYMONTH=11;BYDAY=1SU
END:STANDARD
END:VTIMEZONE
BEGIN:VEVENT
CATEGORIES:Category,Other,Location,Brookhaven,Tag,School of Health Sciences
DESCRIPTION:Join us as we explore the Health Sciences programs at Dallas College. During the event, there will be information sessions and Q&amp;amp;As with Dallas College faculty and staff. Please register to attend. Location: Brookhaven Campus (exact location to be announced)118232
DTSTAMP:20260422T181146
DTSTART;TZID=America/Chicago:20250925T090000
DTEND;TZID=America/Chicago:20250925T140000
LOCATION:Brookhaven
SUMMARY;LANGUAGE=en-us:HSCI Preview Day: Brookhaven
UID:ca51e62124f7b6dadafb27492e3a3879@www.dallascollege.edu
END:VEVENT
END:VCALENDAR
