BEGIN:VCALENDAR
VERSION:2.0
X-WR-CALNAME:EventsCalendar
CALSCALE:GREGORIAN
BEGIN:VTIMEZONE
TZID:America/Chicago
LAST-MODIFIED:20231222T233358Z
TZURL:https://www.tzurl.org/zoneinfo-outlook/America/Chicago
X-LIC-LOCATION:America/Chicago
BEGIN:DAYLIGHT
TZNAME:CDT
TZOFFSETFROM:-0600
TZOFFSETTO:-0500
DTSTART:19700308T020000
RRULE:FREQ=YEARLY;BYMONTH=3;BYDAY=2SU
END:DAYLIGHT
BEGIN:STANDARD
TZNAME:CST
TZOFFSETFROM:-0500
TZOFFSETTO:-0600
DTSTART:19701101T020000
RRULE:FREQ=YEARLY;BYMONTH=11;BYDAY=1SU
END:STANDARD
END:VTIMEZONE
BEGIN:VEVENT
CATEGORIES:Category,Other,Location,Online,Tag,School of Health Sciences
DESCRIPTION:Join us to explore this fast-paced program. Learn about the Dental Hygiene program application requirements and participate in Q&amp;amp;A with pathway specialists. Join the Dental Hygiene Lunch and Learn on Teams118269
DTSTAMP:20260422T182734
DTSTART;TZID=America/Chicago:20251105T120000
DTEND;TZID=America/Chicago:20251105T130000
LOCATION:Online
SUMMARY;LANGUAGE=en-us:Dental Hygiene Lunch and Learn
UID:da0ef996599752d27aac71b29cc069d9@www.dallascollege.edu
END:VEVENT
END:VCALENDAR
