BEGIN:VCALENDAR
VERSION:2.0
X-WR-CALNAME:EventsCalendar
CALSCALE:GREGORIAN
BEGIN:VTIMEZONE
TZID:America/Chicago
LAST-MODIFIED:20231222T233358Z
TZURL:https://www.tzurl.org/zoneinfo-outlook/America/Chicago
X-LIC-LOCATION:America/Chicago
BEGIN:DAYLIGHT
TZNAME:CDT
TZOFFSETFROM:-0600
TZOFFSETTO:-0500
DTSTART:19700308T020000
RRULE:FREQ=YEARLY;BYMONTH=3;BYDAY=2SU
END:DAYLIGHT
BEGIN:STANDARD
TZNAME:CST
TZOFFSETFROM:-0500
TZOFFSETTO:-0600
DTSTART:19701101T020000
RRULE:FREQ=YEARLY;BYMONTH=11;BYDAY=1SU
END:STANDARD
END:VTIMEZONE
BEGIN:VEVENT
CATEGORIES:Category,Career Events/Job Fairs,Location,Downtown Health Sciences Center
DESCRIPTION:Are you ready to launch your career in healthcare? Don&#039;t miss the Fall 2025 Health Sciences Career Expo, hosted by Dallas College&#039;s School of Health Sciences-a unique opportunity to connect face-to-face with employers and professionals shaping the future of healthcare.&amp;nbsp;Whether you&#039;re pursuing nursing, radiologic sciences, respiratory care, or another healthcare-related field, this event is your gateway to a wide range of opportunities.&amp;nbsp;Dallas College&amp;nbsp;Downtown Health Science Center&amp;nbsp;301 N. Market Street Dallas, TX 75202&amp;nbsp;August 26&amp;nbsp;10 a.m. - 2 p.m.&amp;nbsp;120799
DTSTAMP:20260423T023354
DTSTART;TZID=America/Chicago:20250826T100000
DTEND;TZID=America/Chicago:20250826T140000
LOCATION:Downtown Health Sciences Center
SUMMARY;LANGUAGE=en-us:School of Health Sciences Fall 2025 Career Expo
UID:a85e8b003506b24f0125de3ee089f99e@www.dallascollege.edu
END:VEVENT
END:VCALENDAR
