BEGIN:VCALENDAR
VERSION:2.0
X-WR-CALNAME:EventsCalendar
CALSCALE:GREGORIAN
BEGIN:VTIMEZONE
TZID:America/Chicago
LAST-MODIFIED:20231222T233358Z
TZURL:https://www.tzurl.org/zoneinfo-outlook/America/Chicago
X-LIC-LOCATION:America/Chicago
BEGIN:DAYLIGHT
TZNAME:CDT
TZOFFSETFROM:-0600
TZOFFSETTO:-0500
DTSTART:19700308T020000
RRULE:FREQ=YEARLY;BYMONTH=3;BYDAY=2SU
END:DAYLIGHT
BEGIN:STANDARD
TZNAME:CST
TZOFFSETFROM:-0500
TZOFFSETTO:-0600
DTSTART:19701101T020000
RRULE:FREQ=YEARLY;BYMONTH=11;BYDAY=1SU
END:STANDARD
END:VTIMEZONE
BEGIN:VEVENT
CATEGORIES:Category,Arts and Culture,Location,Brookhaven,Location,Cedar Valley,Location,Eastfield,Location,El Centro,Location,Mountain View,Location,North Lake,Location,Richland,Tag,Art and Design
DESCRIPTION:Dallas College Galleries presents our annual Fall Student Art Group Exhibitions at each of our seven campus galleries. Work will be shown in a variety of media, from drawing to design, painting, photography, sculpture, ceramics, metalwork, and more. Exhibits run October 27 &amp;ndash; November 26, Gallery hours: M-F 10 am - 4 pm Receptions: Mountain View Cliff Gallery, W Bldg., W136Tuesday, October 28, 12-2 pm El Centro H. Paxton Moore Fine Art Gallery, B Bldg., B102Thursday, October 30, 12-2 pm North Lake Campus Gallery, J Bldg., HallwayWednesday, November 5, 12-2 pm Cedar Valley Educational Gallery, E Bldg., HallwayThursday, November 6, 12-2 pm Richland Brazos Gallery, Crocket Hall, C140Monday, November 10, 12-2 pm Eastfield Gallery 219, F Bldg., F219Wednesday, November 12, 12-2 pm Brookhaven Forum Gallery, F Bldg., F102Wednesday, November 19, 12-2 pm122379
DTSTAMP:20260422T181941
DTSTART;TZID=America/Chicago:20251027T100000
DTEND;TZID=America/Chicago:20251027T160000
LOCATION:Brookhaven, Cedar Valley, Eastfield, El Centro, Mountain View, North Lake, Richland
SUMMARY;LANGUAGE=en-us:Fall Student Art Group Exhibitions - Opening Day
UID:7eda095ae1a94e1b5d4796dd749e0c80@www.dallascollege.edu
END:VEVENT
END:VCALENDAR
