BEGIN:VCALENDAR
VERSION:2.0
X-WR-CALNAME:EventsCalendar
CALSCALE:GREGORIAN
BEGIN:VTIMEZONE
TZID:America/Chicago
LAST-MODIFIED:20231222T233358Z
TZURL:https://www.tzurl.org/zoneinfo-outlook/America/Chicago
X-LIC-LOCATION:America/Chicago
BEGIN:DAYLIGHT
TZNAME:CDT
TZOFFSETFROM:-0600
TZOFFSETTO:-0500
DTSTART:19700308T020000
RRULE:FREQ=YEARLY;BYMONTH=3;BYDAY=2SU
END:DAYLIGHT
BEGIN:STANDARD
TZNAME:CST
TZOFFSETFROM:-0500
TZOFFSETTO:-0600
DTSTART:19701101T020000
RRULE:FREQ=YEARLY;BYMONTH=11;BYDAY=1SU
END:STANDARD
END:VTIMEZONE
BEGIN:VEVENT
CATEGORIES:Category,Arts and Culture,Location,Mountain View,Tag,Art and Design
DESCRIPTION:Dallas College Galleries presents our annual Fall Student Art Group Exhibitions at each of our seven campus galleries. Work will be shown in a variety of media, from drawing to design, painting, photography, sculpture, ceramics, metalwork, and more. Fall exhibits run October 27 - November 26Gallery hours: M-F 10am - 4pm Location: Mountain View Campus, Cliff Gallery, W Bldg., W136122647
DTSTAMP:20260422T181940
DTSTART;TZID=America/Chicago:20251028T120000
DTEND;TZID=America/Chicago:20251028T140000
LOCATION:Mountain View
SUMMARY;LANGUAGE=en-us:Mountain View Fall Student Art Group Exhibition Reception
UID:2402acba22a364155319cc0d26a7b17f@www.dallascollege.edu
END:VEVENT
END:VCALENDAR
