BEGIN:VCALENDAR
VERSION:2.0
X-WR-CALNAME:EventsCalendar
CALSCALE:GREGORIAN
BEGIN:VTIMEZONE
TZID:America/Chicago
LAST-MODIFIED:20231222T233358Z
TZURL:https://www.tzurl.org/zoneinfo-outlook/America/Chicago
X-LIC-LOCATION:America/Chicago
BEGIN:DAYLIGHT
TZNAME:CDT
TZOFFSETFROM:-0600
TZOFFSETTO:-0500
DTSTART:19700308T020000
RRULE:FREQ=YEARLY;BYMONTH=3;BYDAY=2SU
END:DAYLIGHT
BEGIN:STANDARD
TZNAME:CST
TZOFFSETFROM:-0500
TZOFFSETTO:-0600
DTSTART:19701101T020000
RRULE:FREQ=YEARLY;BYMONTH=11;BYDAY=1SU
END:STANDARD
END:VTIMEZONE
BEGIN:VEVENT
CATEGORIES:Category,Arts and Culture,Location,Brookhaven,Tag,Music
DESCRIPTION:Join us in the Performance Hall Lobby for a Harp Coffee Concert&amp;mdash;an inviting blend of warm coffee, cozy ambiance, and the serene sounds of live harp music. It&#039;s the perfect way to relax, connect, and enjoy a unique musical experience in a beautiful setting. Location: Brookhaven Campus, Performance Hall Lobby, Bldg. C, Room C200122843
DTSTAMP:20260422T182054
DTSTART;TZID=America/Chicago:20251029T123000
DTEND;TZID=America/Chicago:20251029T140000
LOCATION:Brookhaven
SUMMARY;LANGUAGE=en-us:Harp Coffee Concert
UID:50228d06e946b90cb2ea7bb9a6fc138d@www.dallascollege.edu
END:VEVENT
END:VCALENDAR
