BEGIN:VCALENDAR
VERSION:2.0
X-WR-CALNAME:EventsCalendar
CALSCALE:GREGORIAN
BEGIN:VTIMEZONE
TZID:America/Chicago
LAST-MODIFIED:20231222T233358Z
TZURL:https://www.tzurl.org/zoneinfo-outlook/America/Chicago
X-LIC-LOCATION:America/Chicago
BEGIN:DAYLIGHT
TZNAME:CDT
TZOFFSETFROM:-0600
TZOFFSETTO:-0500
DTSTART:19700308T020000
RRULE:FREQ=YEARLY;BYMONTH=3;BYDAY=2SU
END:DAYLIGHT
BEGIN:STANDARD
TZNAME:CST
TZOFFSETFROM:-0500
TZOFFSETTO:-0600
DTSTART:19701101T020000
RRULE:FREQ=YEARLY;BYMONTH=11;BYDAY=1SU
END:STANDARD
END:VTIMEZONE
BEGIN:VEVENT
CATEGORIES:Category,Arts and Culture,Location,El Centro,Tag,Art and Design
DESCRIPTION:Dallas College Galleries presents our annual Fall Student Art Group Exhibitions at each of our seven campus galleries. Work will be shown in a variety of media, from drawing to design, painting, photography, sculpture, ceramics, metalwork, and more. Fall exhibits run October 27 - November 26Gallery hours: M-F 10am - 4pm Location: El Centro Campus, H. Paxton Moore Fine Art Gallery, B Bldg., B102122886
DTSTAMP:20260422T202448
DTSTART;TZID=America/Chicago:20251030T120000
DTEND;TZID=America/Chicago:20251030T140000
LOCATION:El Centro
SUMMARY;LANGUAGE=en-us:El Centro Fall Student Art Group Exhibition Reception
UID:53948733a2ca58158a79026f69f58ba8@www.dallascollege.edu
END:VEVENT
END:VCALENDAR
