BEGIN:VCALENDAR
VERSION:2.0
X-WR-CALNAME:EventsCalendar
CALSCALE:GREGORIAN
BEGIN:VTIMEZONE
TZID:America/Chicago
LAST-MODIFIED:20231222T233358Z
TZURL:https://www.tzurl.org/zoneinfo-outlook/America/Chicago
X-LIC-LOCATION:America/Chicago
BEGIN:DAYLIGHT
TZNAME:CDT
TZOFFSETFROM:-0600
TZOFFSETTO:-0500
DTSTART:19700308T020000
RRULE:FREQ=YEARLY;BYMONTH=3;BYDAY=2SU
END:DAYLIGHT
BEGIN:STANDARD
TZNAME:CST
TZOFFSETFROM:-0500
TZOFFSETTO:-0600
DTSTART:19701101T020000
RRULE:FREQ=YEARLY;BYMONTH=11;BYDAY=1SU
END:STANDARD
END:VTIMEZONE
BEGIN:VEVENT
CATEGORIES:Category,University Recruiting/Transfer Events,Location,Online,Tag,Transfer
DESCRIPTION:This event will be held virtually via Teams. Free virtual giveaways. Join Online124462
DTSTAMP:20260422T233038
DTSTART;TZID=America/Chicago:20251001T120000
DTEND;TZID=America/Chicago:20251001T140000
LOCATION:Online
SUMMARY;LANGUAGE=en-us:Inaugural Online Transfer Fair (Afternoon)
UID:905c0bd44a19fa6680a6125146056052@www.dallascollege.edu
END:VEVENT
END:VCALENDAR
