BEGIN:VCALENDAR
VERSION:2.0
X-WR-CALNAME:EventsCalendar
CALSCALE:GREGORIAN
BEGIN:VTIMEZONE
TZID:America/Chicago
LAST-MODIFIED:20231222T233358Z
TZURL:https://www.tzurl.org/zoneinfo-outlook/America/Chicago
X-LIC-LOCATION:America/Chicago
BEGIN:DAYLIGHT
TZNAME:CDT
TZOFFSETFROM:-0600
TZOFFSETTO:-0500
DTSTART:19700308T020000
RRULE:FREQ=YEARLY;BYMONTH=3;BYDAY=2SU
END:DAYLIGHT
BEGIN:STANDARD
TZNAME:CST
TZOFFSETFROM:-0500
TZOFFSETTO:-0600
DTSTART:19701101T020000
RRULE:FREQ=YEARLY;BYMONTH=11;BYDAY=1SU
END:STANDARD
END:VTIMEZONE
BEGIN:VEVENT
CATEGORIES:Category,University Recruiting/Transfer Events,Location,Mountain View
DESCRIPTION:Mountain View W Foyer &amp;amp; Tree Top Lounge, Food and Giveaways will be provided124477
DTSTAMP:20260422T181624
DTSTART;TZID=America/Chicago:20251120T100000
DTEND;TZID=America/Chicago:20251120T140000
LOCATION:Mountain View
SUMMARY;LANGUAGE=en-us:UTA Maverick Takeover (Mountain View)
UID:21dc02475eaa3851825282ebe40a6ba6@www.dallascollege.edu
END:VEVENT
END:VCALENDAR
