BEGIN:VCALENDAR
VERSION:2.0
X-WR-CALNAME:EventsCalendar
CALSCALE:GREGORIAN
BEGIN:VTIMEZONE
TZID:America/Chicago
LAST-MODIFIED:20231222T233358Z
TZURL:https://www.tzurl.org/zoneinfo-outlook/America/Chicago
X-LIC-LOCATION:America/Chicago
BEGIN:DAYLIGHT
TZNAME:CDT
TZOFFSETFROM:-0600
TZOFFSETTO:-0500
DTSTART:19700308T020000
RRULE:FREQ=YEARLY;BYMONTH=3;BYDAY=2SU
END:DAYLIGHT
BEGIN:STANDARD
TZNAME:CST
TZOFFSETFROM:-0500
TZOFFSETTO:-0600
DTSTART:19701101T020000
RRULE:FREQ=YEARLY;BYMONTH=11;BYDAY=1SU
END:STANDARD
END:VTIMEZONE
BEGIN:VEVENT
CATEGORIES:Category,Other,Location,Richland
DESCRIPTION:Many sexually transmitted infections (STIs) have no symptoms. STIs affect people of all ages, yet these infections take a particularly heavy toll on young people. The only way you can be sure of your status is to get yourself tested. Do it for: confidence, peace of mind and you. Stop by the Dallas County mobile unit to get free and confidential STI testing. Locations: Richland Campus - Mobile unit: Parking Lot A; information table: El Paso Hallway126468
DTSTAMP:20260422T181620
DTSTART;TZID=America/Chicago:20251007T093000
DTEND;TZID=America/Chicago:20251007T140000
LOCATION:Richland
SUMMARY;LANGUAGE=en-us:Free and Confidential STI Testing
UID:83cb683abdaedba7eda90d9b4f2dea92@www.dallascollege.edu
END:VEVENT
END:VCALENDAR
