BEGIN:VCALENDAR
VERSION:2.0
X-WR-CALNAME:EventsCalendar
CALSCALE:GREGORIAN
BEGIN:VTIMEZONE
TZID:America/Chicago
LAST-MODIFIED:20231222T233358Z
TZURL:https://www.tzurl.org/zoneinfo-outlook/America/Chicago
X-LIC-LOCATION:America/Chicago
BEGIN:DAYLIGHT
TZNAME:CDT
TZOFFSETFROM:-0600
TZOFFSETTO:-0500
DTSTART:19700308T020000
RRULE:FREQ=YEARLY;BYMONTH=3;BYDAY=2SU
END:DAYLIGHT
BEGIN:STANDARD
TZNAME:CST
TZOFFSETFROM:-0500
TZOFFSETTO:-0600
DTSTART:19701101T020000
RRULE:FREQ=YEARLY;BYMONTH=11;BYDAY=1SU
END:STANDARD
END:VTIMEZONE
BEGIN:VEVENT
CATEGORIES:Category,Community,Category,Other,Location,Brookhaven,Tag,Drive-Thru Pantry Days
DESCRIPTION:Get free food! Volunteers will deliver food to your car at this drive-thru event. Open to the public, while supplies last. First come, first served. Location: Brookhaven Campus, P3 parking lot (in front of S building) View our campus maps&amp;nbsp;for help locating this event. Drive-thru pantry days may be rescheduled or cancelled due to severe weather conditions. The latest delivery information will be shared through&amp;nbsp;Dallas College social media. You may also be interested in our Community Pantry Days. On most Fridays, our on-campus food pantries are open to the public! For more information, including future pantry dates, visit&amp;nbsp;DallasCollege.edu/FoodPantry.128668
DTSTAMP:20260422T140547
DTSTART;TZID=America/Chicago:20251209T100000
DTEND;TZID=America/Chicago:20251209T120000
LOCATION:Brookhaven
SUMMARY;LANGUAGE=en-us:Drive-Thru Pantry Day
UID:3c4b011565cea495df12852359d74706@www.dallascollege.edu
END:VEVENT
BEGIN:VEVENT
CATEGORIES:Category,Community,Category,Other,Location,Brookhaven,Tag,Drive-Thru Pantry Days
DESCRIPTION:Get free food! Volunteers will deliver food to your car at this drive-thru event. Open to the public, while supplies last. First come, first served. Location: Brookhaven Campus, P3 parking lot (in front of S building) View our campus maps&amp;nbsp;for help locating this event. Drive-thru pantry days may be rescheduled or cancelled due to severe weather conditions. The latest delivery information will be shared through&amp;nbsp;Dallas College social media. You may also be interested in our Community Pantry Days. On most Fridays, our on-campus food pantries are open to the public! For more information, including future pantry dates, visit&amp;nbsp;DallasCollege.edu/FoodPantry.128668
DTSTAMP:20260422T140547
DTSTART;TZID=America/Chicago:20260602T100000
DTEND;TZID=America/Chicago:20260602T120000
LOCATION:Brookhaven
SUMMARY;LANGUAGE=en-us:Drive-Thru Pantry Day
UID:87757c242d5d42d8f75c371418804686@www.dallascollege.edu
END:VEVENT
END:VCALENDAR
