BEGIN:VCALENDAR
VERSION:2.0
X-WR-CALNAME:EventsCalendar
CALSCALE:GREGORIAN
BEGIN:VTIMEZONE
TZID:America/Chicago
LAST-MODIFIED:20231222T233358Z
TZURL:https://www.tzurl.org/zoneinfo-outlook/America/Chicago
X-LIC-LOCATION:America/Chicago
BEGIN:DAYLIGHT
TZNAME:CDT
TZOFFSETFROM:-0600
TZOFFSETTO:-0500
DTSTART:19700308T020000
RRULE:FREQ=YEARLY;BYMONTH=3;BYDAY=2SU
END:DAYLIGHT
BEGIN:STANDARD
TZNAME:CST
TZOFFSETFROM:-0500
TZOFFSETTO:-0600
DTSTART:19701101T020000
RRULE:FREQ=YEARLY;BYMONTH=11;BYDAY=1SU
END:STANDARD
END:VTIMEZONE
BEGIN:VEVENT
CATEGORIES:Category,Events,Location,Richland
DESCRIPTION:RICHLAND CAMPUS EL PASO HALL - STUDENT LOUNGE 11am - 1pm on both days131513
DTSTAMP:20260422T182538
DTSTART;TZID=America/Chicago:20250923T110000
DTEND;TZID=America/Chicago:20250923T130000
LOCATION:Richland
SUMMARY;LANGUAGE=en-us:Fall 2025 Registered Student Organizations Expo - Richland Campus
UID:bf5987248b6f1af6f743ce739e6a710e@www.dallascollege.edu
END:VEVENT
BEGIN:VEVENT
CATEGORIES:Category,Events,Location,Richland
DESCRIPTION:RICHLAND CAMPUS EL PASO HALL - STUDENT LOUNGE 11am - 1pm on both days131513
DTSTAMP:20260422T182538
DTSTART;TZID=America/Chicago:20250924T110000
DTEND;TZID=America/Chicago:20250924T130000
LOCATION:Richland
SUMMARY;LANGUAGE=en-us:Fall 2025 Registered Student Organizations Expo - Richland Campus
UID:ecb82f58d20d19c7ee5734cc0d89aae8@www.dallascollege.edu
END:VEVENT
END:VCALENDAR
