BEGIN:VCALENDAR
VERSION:2.0
X-WR-CALNAME:EventsCalendar
CALSCALE:GREGORIAN
BEGIN:VTIMEZONE
TZID:America/Chicago
LAST-MODIFIED:20231222T233358Z
TZURL:https://www.tzurl.org/zoneinfo-outlook/America/Chicago
X-LIC-LOCATION:America/Chicago
BEGIN:DAYLIGHT
TZNAME:CDT
TZOFFSETFROM:-0600
TZOFFSETTO:-0500
DTSTART:19700308T020000
RRULE:FREQ=YEARLY;BYMONTH=3;BYDAY=2SU
END:DAYLIGHT
BEGIN:STANDARD
TZNAME:CST
TZOFFSETFROM:-0500
TZOFFSETTO:-0600
DTSTART:19701101T020000
RRULE:FREQ=YEARLY;BYMONTH=11;BYDAY=1SU
END:STANDARD
END:VTIMEZONE
BEGIN:VEVENT
CATEGORIES:Category,Student Life,Location,Richland
DESCRIPTION:Richland SGA Executive Board MeetingOpen to allMondays2:30pm- 4pmRichland CampusEl Paso Hall - E032131522
DTSTAMP:20260420T125835
DTSTART;TZID=America/Chicago:20250908T143000
DTEND;TZID=America/Chicago:20250908T160000
LOCATION:Richland
SUMMARY;LANGUAGE=en-us:SGA Executive Board Meetings
UID:8f7abcf9672f0483b6e1ec0861ac3198@www.dallascollege.edu
END:VEVENT
BEGIN:VEVENT
CATEGORIES:Category,Student Life,Location,Richland
DESCRIPTION:Richland SGA Executive Board MeetingOpen to allMondays2:30pm- 4pmRichland CampusEl Paso Hall - E032131522
DTSTAMP:20260420T125835
DTSTART;TZID=America/Chicago:20250915T143000
DTEND;TZID=America/Chicago:20250915T160000
LOCATION:Richland
SUMMARY;LANGUAGE=en-us:SGA Executive Board Meetings
UID:da0450f88e5a729fb7d446bb9aeb3f1a@www.dallascollege.edu
END:VEVENT
BEGIN:VEVENT
CATEGORIES:Category,Student Life,Location,Richland
DESCRIPTION:Richland SGA Executive Board MeetingOpen to allMondays2:30pm- 4pmRichland CampusEl Paso Hall - E032131522
DTSTAMP:20260420T125835
DTSTART;TZID=America/Chicago:20250922T143000
DTEND;TZID=America/Chicago:20250922T160000
LOCATION:Richland
SUMMARY;LANGUAGE=en-us:SGA Executive Board Meetings
UID:6a58fe48c221511a76988cb55d41faf0@www.dallascollege.edu
END:VEVENT
BEGIN:VEVENT
CATEGORIES:Category,Student Life,Location,Richland
DESCRIPTION:Richland SGA Executive Board MeetingOpen to allMondays2:30pm- 4pmRichland CampusEl Paso Hall - E032131522
DTSTAMP:20260420T125835
DTSTART;TZID=America/Chicago:20250929T143000
DTEND;TZID=America/Chicago:20250929T160000
LOCATION:Richland
SUMMARY;LANGUAGE=en-us:SGA Executive Board Meetings
UID:95b56d056cf400175033deac2b58fec3@www.dallascollege.edu
END:VEVENT
BEGIN:VEVENT
CATEGORIES:Category,Student Life,Location,Richland
DESCRIPTION:Richland SGA Executive Board MeetingOpen to allMondays2:30pm- 4pmRichland CampusEl Paso Hall - E032131522
DTSTAMP:20260420T125835
DTSTART;TZID=America/Chicago:20251006T143000
DTEND;TZID=America/Chicago:20251006T160000
LOCATION:Richland
SUMMARY;LANGUAGE=en-us:SGA Executive Board Meetings
UID:97458399a70e466cbaaee283af590420@www.dallascollege.edu
END:VEVENT
BEGIN:VEVENT
CATEGORIES:Category,Student Life,Location,Richland
DESCRIPTION:Richland SGA Executive Board MeetingOpen to allMondays2:30pm- 4pmRichland CampusEl Paso Hall - E032131522
DTSTAMP:20260420T125835
DTSTART;TZID=America/Chicago:20251013T143000
DTEND;TZID=America/Chicago:20251013T160000
LOCATION:Richland
SUMMARY;LANGUAGE=en-us:SGA Executive Board Meetings
UID:1e3a99e1f1a8d17cf7306bf4c4e4f00b@www.dallascollege.edu
END:VEVENT
BEGIN:VEVENT
CATEGORIES:Category,Student Life,Location,Richland
DESCRIPTION:Richland SGA Executive Board MeetingOpen to allMondays2:30pm- 4pmRichland CampusEl Paso Hall - E032131522
DTSTAMP:20260420T125835
DTSTART;TZID=America/Chicago:20251020T143000
DTEND;TZID=America/Chicago:20251020T160000
LOCATION:Richland
SUMMARY;LANGUAGE=en-us:SGA Executive Board Meetings
UID:bea20f5dcf5a1029e9c933d42ebbe58c@www.dallascollege.edu
END:VEVENT
BEGIN:VEVENT
CATEGORIES:Category,Student Life,Location,Richland
DESCRIPTION:Richland SGA Executive Board MeetingOpen to allMondays2:30pm- 4pmRichland CampusEl Paso Hall - E032131522
DTSTAMP:20260420T125835
DTSTART;TZID=America/Chicago:20251027T143000
DTEND;TZID=America/Chicago:20251027T160000
LOCATION:Richland
SUMMARY;LANGUAGE=en-us:SGA Executive Board Meetings
UID:ccb4a632703e7887cb6ea91d01579659@www.dallascollege.edu
END:VEVENT
BEGIN:VEVENT
CATEGORIES:Category,Student Life,Location,Richland
DESCRIPTION:Richland SGA Executive Board MeetingOpen to allMondays2:30pm- 4pmRichland CampusEl Paso Hall - E032131522
DTSTAMP:20260420T125835
DTSTART;TZID=America/Chicago:20251103T143000
DTEND;TZID=America/Chicago:20251103T160000
LOCATION:Richland
SUMMARY;LANGUAGE=en-us:SGA Executive Board Meetings
UID:8e1d256101c894aeefbd060ca33ccd62@www.dallascollege.edu
END:VEVENT
BEGIN:VEVENT
CATEGORIES:Category,Student Life,Location,Richland
DESCRIPTION:Richland SGA Executive Board MeetingOpen to allMondays2:30pm- 4pmRichland CampusEl Paso Hall - E032131522
DTSTAMP:20260420T125835
DTSTART;TZID=America/Chicago:20251110T143000
DTEND;TZID=America/Chicago:20251110T160000
LOCATION:Richland
SUMMARY;LANGUAGE=en-us:SGA Executive Board Meetings
UID:efb800cff8fb9e122346811fee45fd75@www.dallascollege.edu
END:VEVENT
BEGIN:VEVENT
CATEGORIES:Category,Student Life,Location,Richland
DESCRIPTION:Richland SGA Executive Board MeetingOpen to allMondays2:30pm- 4pmRichland CampusEl Paso Hall - E032131522
DTSTAMP:20260420T125835
DTSTART;TZID=America/Chicago:20251117T143000
DTEND;TZID=America/Chicago:20251117T160000
LOCATION:Richland
SUMMARY;LANGUAGE=en-us:SGA Executive Board Meetings
UID:c5e03ed6be76951c7ea32b37d8b58e6c@www.dallascollege.edu
END:VEVENT
BEGIN:VEVENT
CATEGORIES:Category,Student Life,Location,Richland
DESCRIPTION:Richland SGA Executive Board MeetingOpen to allMondays2:30pm- 4pmRichland CampusEl Paso Hall - E032131522
DTSTAMP:20260420T125835
DTSTART;TZID=America/Chicago:20251124T143000
DTEND;TZID=America/Chicago:20251124T160000
LOCATION:Richland
SUMMARY;LANGUAGE=en-us:SGA Executive Board Meetings
UID:a43e9783cd6aed5f8d9712c81daf42c1@www.dallascollege.edu
END:VEVENT
BEGIN:VEVENT
CATEGORIES:Category,Student Life,Location,Richland
DESCRIPTION:Richland SGA Executive Board MeetingOpen to allMondays2:30pm- 4pmRichland CampusEl Paso Hall - E032131522
DTSTAMP:20260420T125835
DTSTART;TZID=America/Chicago:20251201T143000
DTEND;TZID=America/Chicago:20251201T160000
LOCATION:Richland
SUMMARY;LANGUAGE=en-us:SGA Executive Board Meetings
UID:aeede1688fab427f09f94d01a79bc073@www.dallascollege.edu
END:VEVENT
BEGIN:VEVENT
CATEGORIES:Category,Student Life,Location,Richland
DESCRIPTION:Richland SGA Executive Board MeetingOpen to allMondays2:30pm- 4pmRichland CampusEl Paso Hall - E032131522
DTSTAMP:20260420T125835
DTSTART;TZID=America/Chicago:20251208T143000
DTEND;TZID=America/Chicago:20251208T160000
LOCATION:Richland
SUMMARY;LANGUAGE=en-us:SGA Executive Board Meetings
UID:399bba733c6937d4eca5c71e1b90a364@www.dallascollege.edu
END:VEVENT
BEGIN:VEVENT
CATEGORIES:Category,Student Life,Location,Richland
DESCRIPTION:Richland SGA Executive Board MeetingOpen to allMondays2:30pm- 4pmRichland CampusEl Paso Hall - E032131522
DTSTAMP:20260420T125835
DTSTART;TZID=America/Chicago:20251215T143000
DTEND;TZID=America/Chicago:20251215T160000
LOCATION:Richland
SUMMARY;LANGUAGE=en-us:SGA Executive Board Meetings
UID:0ad01ad09f17ca65d31e4167bb949949@www.dallascollege.edu
END:VEVENT
BEGIN:VEVENT
CATEGORIES:Category,Student Life,Location,Richland
DESCRIPTION:Richland SGA Executive Board MeetingOpen to allMondays2:30pm- 4pmRichland CampusEl Paso Hall - E032131522
DTSTAMP:20260420T125835
DTSTART;TZID=America/Chicago:20251222T143000
DTEND;TZID=America/Chicago:20251222T160000
LOCATION:Richland
SUMMARY;LANGUAGE=en-us:SGA Executive Board Meetings
UID:70c19921ac11bec882d6103caf6aa100@www.dallascollege.edu
END:VEVENT
BEGIN:VEVENT
CATEGORIES:Category,Student Life,Location,Richland
DESCRIPTION:Richland SGA Executive Board MeetingOpen to allMondays2:30pm- 4pmRichland CampusEl Paso Hall - E032131522
DTSTAMP:20260420T125835
DTSTART;TZID=America/Chicago:20251229T143000
DTEND;TZID=America/Chicago:20251229T160000
LOCATION:Richland
SUMMARY;LANGUAGE=en-us:SGA Executive Board Meetings
UID:6a078d1d8cbea6cb1ca014ea7a47a55a@www.dallascollege.edu
END:VEVENT
BEGIN:VEVENT
CATEGORIES:Category,Student Life,Location,Richland
DESCRIPTION:Richland SGA Executive Board MeetingOpen to allMondays2:30pm- 4pmRichland CampusEl Paso Hall - E032131522
DTSTAMP:20260420T125835
DTSTART;TZID=America/Chicago:20260105T143000
DTEND;TZID=America/Chicago:20260105T160000
LOCATION:Richland
SUMMARY;LANGUAGE=en-us:SGA Executive Board Meetings
UID:fe057ec6b360b27da17c8fd800dc3a9f@www.dallascollege.edu
END:VEVENT
BEGIN:VEVENT
CATEGORIES:Category,Student Life,Location,Richland
DESCRIPTION:Richland SGA Executive Board MeetingOpen to allMondays2:30pm- 4pmRichland CampusEl Paso Hall - E032131522
DTSTAMP:20260420T125835
DTSTART;TZID=America/Chicago:20260112T143000
DTEND;TZID=America/Chicago:20260112T160000
LOCATION:Richland
SUMMARY;LANGUAGE=en-us:SGA Executive Board Meetings
UID:1b49afc3ec8dba40622ee618bd5cd3b9@www.dallascollege.edu
END:VEVENT
BEGIN:VEVENT
CATEGORIES:Category,Student Life,Location,Richland
DESCRIPTION:Richland SGA Executive Board MeetingOpen to allMondays2:30pm- 4pmRichland CampusEl Paso Hall - E032131522
DTSTAMP:20260420T125835
DTSTART;TZID=America/Chicago:20260119T143000
DTEND;TZID=America/Chicago:20260119T160000
LOCATION:Richland
SUMMARY;LANGUAGE=en-us:SGA Executive Board Meetings
UID:24b49655ea3f0201f57942db59c9a8bf@www.dallascollege.edu
END:VEVENT
BEGIN:VEVENT
CATEGORIES:Category,Student Life,Location,Richland
DESCRIPTION:Richland SGA Executive Board MeetingOpen to allMondays2:30pm- 4pmRichland CampusEl Paso Hall - E032131522
DTSTAMP:20260420T125835
DTSTART;TZID=America/Chicago:20260126T143000
DTEND;TZID=America/Chicago:20260126T160000
LOCATION:Richland
SUMMARY;LANGUAGE=en-us:SGA Executive Board Meetings
UID:f307c79ef3f5763ffe6643cbc8b70424@www.dallascollege.edu
END:VEVENT
BEGIN:VEVENT
CATEGORIES:Category,Student Life,Location,Richland
DESCRIPTION:Richland SGA Executive Board MeetingOpen to allMondays2:30pm- 4pmRichland CampusEl Paso Hall - E032131522
DTSTAMP:20260420T125835
DTSTART;TZID=America/Chicago:20260202T143000
DTEND;TZID=America/Chicago:20260202T160000
LOCATION:Richland
SUMMARY;LANGUAGE=en-us:SGA Executive Board Meetings
UID:2f1b8ff1c88d06d546c6b44e6fdd363c@www.dallascollege.edu
END:VEVENT
BEGIN:VEVENT
CATEGORIES:Category,Student Life,Location,Richland
DESCRIPTION:Richland SGA Executive Board MeetingOpen to allMondays2:30pm- 4pmRichland CampusEl Paso Hall - E032131522
DTSTAMP:20260420T125835
DTSTART;TZID=America/Chicago:20260209T143000
DTEND;TZID=America/Chicago:20260209T160000
LOCATION:Richland
SUMMARY;LANGUAGE=en-us:SGA Executive Board Meetings
UID:6cb24c5403bc50a64aadb1afe9405305@www.dallascollege.edu
END:VEVENT
BEGIN:VEVENT
CATEGORIES:Category,Student Life,Location,Richland
DESCRIPTION:Richland SGA Executive Board MeetingOpen to allMondays2:30pm- 4pmRichland CampusEl Paso Hall - E032131522
DTSTAMP:20260420T125835
DTSTART;TZID=America/Chicago:20260216T143000
DTEND;TZID=America/Chicago:20260216T160000
LOCATION:Richland
SUMMARY;LANGUAGE=en-us:SGA Executive Board Meetings
UID:cfbc720e2df0e5df13735eb742d6b490@www.dallascollege.edu
END:VEVENT
BEGIN:VEVENT
CATEGORIES:Category,Student Life,Location,Richland
DESCRIPTION:Richland SGA Executive Board MeetingOpen to allMondays2:30pm- 4pmRichland CampusEl Paso Hall - E032131522
DTSTAMP:20260420T125835
DTSTART;TZID=America/Chicago:20260223T143000
DTEND;TZID=America/Chicago:20260223T160000
LOCATION:Richland
SUMMARY;LANGUAGE=en-us:SGA Executive Board Meetings
UID:b219c2d21973f86784e2f4bf750923ab@www.dallascollege.edu
END:VEVENT
BEGIN:VEVENT
CATEGORIES:Category,Student Life,Location,Richland
DESCRIPTION:Richland SGA Executive Board MeetingOpen to allMondays2:30pm- 4pmRichland CampusEl Paso Hall - E032131522
DTSTAMP:20260420T125835
DTSTART;TZID=America/Chicago:20260302T143000
DTEND;TZID=America/Chicago:20260302T160000
LOCATION:Richland
SUMMARY;LANGUAGE=en-us:SGA Executive Board Meetings
UID:c05669d71cd89494defabaf8ffecd694@www.dallascollege.edu
END:VEVENT
BEGIN:VEVENT
CATEGORIES:Category,Student Life,Location,Richland
DESCRIPTION:Richland SGA Executive Board MeetingOpen to allMondays2:30pm- 4pmRichland CampusEl Paso Hall - E032131522
DTSTAMP:20260420T125835
DTSTART;TZID=America/Chicago:20260309T143000
DTEND;TZID=America/Chicago:20260309T160000
LOCATION:Richland
SUMMARY;LANGUAGE=en-us:SGA Executive Board Meetings
UID:a84950d49f6def198a3a6a796de1ac4f@www.dallascollege.edu
END:VEVENT
BEGIN:VEVENT
CATEGORIES:Category,Student Life,Location,Richland
DESCRIPTION:Richland SGA Executive Board MeetingOpen to allMondays2:30pm- 4pmRichland CampusEl Paso Hall - E032131522
DTSTAMP:20260420T125835
DTSTART;TZID=America/Chicago:20260316T143000
DTEND;TZID=America/Chicago:20260316T160000
LOCATION:Richland
SUMMARY;LANGUAGE=en-us:SGA Executive Board Meetings
UID:1ef39bc9377f5cb3213b38240f57a6de@www.dallascollege.edu
END:VEVENT
BEGIN:VEVENT
CATEGORIES:Category,Student Life,Location,Richland
DESCRIPTION:Richland SGA Executive Board MeetingOpen to allMondays2:30pm- 4pmRichland CampusEl Paso Hall - E032131522
DTSTAMP:20260420T125835
DTSTART;TZID=America/Chicago:20260323T143000
DTEND;TZID=America/Chicago:20260323T160000
LOCATION:Richland
SUMMARY;LANGUAGE=en-us:SGA Executive Board Meetings
UID:9f3cbc948c689786ba401ae378156d9f@www.dallascollege.edu
END:VEVENT
BEGIN:VEVENT
CATEGORIES:Category,Student Life,Location,Richland
DESCRIPTION:Richland SGA Executive Board MeetingOpen to allMondays2:30pm- 4pmRichland CampusEl Paso Hall - E032131522
DTSTAMP:20260420T125835
DTSTART;TZID=America/Chicago:20260330T143000
DTEND;TZID=America/Chicago:20260330T160000
LOCATION:Richland
SUMMARY;LANGUAGE=en-us:SGA Executive Board Meetings
UID:b7eac94462734458dbd03ad5d5dd2010@www.dallascollege.edu
END:VEVENT
BEGIN:VEVENT
CATEGORIES:Category,Student Life,Location,Richland
DESCRIPTION:Richland SGA Executive Board MeetingOpen to allMondays2:30pm- 4pmRichland CampusEl Paso Hall - E032131522
DTSTAMP:20260420T125835
DTSTART;TZID=America/Chicago:20260406T143000
DTEND;TZID=America/Chicago:20260406T160000
LOCATION:Richland
SUMMARY;LANGUAGE=en-us:SGA Executive Board Meetings
UID:e417a3f58667c4ebf85b09f224920a95@www.dallascollege.edu
END:VEVENT
BEGIN:VEVENT
CATEGORIES:Category,Student Life,Location,Richland
DESCRIPTION:Richland SGA Executive Board MeetingOpen to allMondays2:30pm- 4pmRichland CampusEl Paso Hall - E032131522
DTSTAMP:20260420T125835
DTSTART;TZID=America/Chicago:20260413T143000
DTEND;TZID=America/Chicago:20260413T160000
LOCATION:Richland
SUMMARY;LANGUAGE=en-us:SGA Executive Board Meetings
UID:6fdef085a60f7adbfb27f7d60a5e80ee@www.dallascollege.edu
END:VEVENT
BEGIN:VEVENT
CATEGORIES:Category,Student Life,Location,Richland
DESCRIPTION:Richland SGA Executive Board MeetingOpen to allMondays2:30pm- 4pmRichland CampusEl Paso Hall - E032131522
DTSTAMP:20260420T125835
DTSTART;TZID=America/Chicago:20260420T143000
DTEND;TZID=America/Chicago:20260420T160000
LOCATION:Richland
SUMMARY;LANGUAGE=en-us:SGA Executive Board Meetings
UID:fc17bddd1942898e82c7001b86dec702@www.dallascollege.edu
END:VEVENT
BEGIN:VEVENT
CATEGORIES:Category,Student Life,Location,Richland
DESCRIPTION:Richland SGA Executive Board MeetingOpen to allMondays2:30pm- 4pmRichland CampusEl Paso Hall - E032131522
DTSTAMP:20260420T125835
DTSTART;TZID=America/Chicago:20260427T143000
DTEND;TZID=America/Chicago:20260427T160000
LOCATION:Richland
SUMMARY;LANGUAGE=en-us:SGA Executive Board Meetings
UID:ebeb5a9c65ea6cc5bf028ad7fdb4c420@www.dallascollege.edu
END:VEVENT
BEGIN:VEVENT
CATEGORIES:Category,Student Life,Location,Richland
DESCRIPTION:Richland SGA Executive Board MeetingOpen to allMondays2:30pm- 4pmRichland CampusEl Paso Hall - E032131522
DTSTAMP:20260420T125835
DTSTART;TZID=America/Chicago:20260504T143000
DTEND;TZID=America/Chicago:20260504T160000
LOCATION:Richland
SUMMARY;LANGUAGE=en-us:SGA Executive Board Meetings
UID:5077a8c6b4432cc4341927d880f51cb3@www.dallascollege.edu
END:VEVENT
END:VCALENDAR
