BEGIN:VCALENDAR
VERSION:2.0
X-WR-CALNAME:EventsCalendar
CALSCALE:GREGORIAN
BEGIN:VTIMEZONE
TZID:America/Chicago
LAST-MODIFIED:20231222T233358Z
TZURL:https://www.tzurl.org/zoneinfo-outlook/America/Chicago
X-LIC-LOCATION:America/Chicago
BEGIN:DAYLIGHT
TZNAME:CDT
TZOFFSETFROM:-0600
TZOFFSETTO:-0500
DTSTART:19700308T020000
RRULE:FREQ=YEARLY;BYMONTH=3;BYDAY=2SU
END:DAYLIGHT
BEGIN:STANDARD
TZNAME:CST
TZOFFSETFROM:-0500
TZOFFSETTO:-0600
DTSTART:19701101T020000
RRULE:FREQ=YEARLY;BYMONTH=11;BYDAY=1SU
END:STANDARD
END:VTIMEZONE
BEGIN:VEVENT
CATEGORIES:Category,Student Life,Location,Richland
DESCRIPTION:Richland Campus - El Paso Hall Student Lounge 11am - 1pm131530
DTSTAMP:20260422T233109
DTSTART;TZID=America/Chicago:20250917T110000
DTEND;TZID=America/Chicago:20250917T130000
LOCATION:Richland
SUMMARY;LANGUAGE=en-us:Constitution Day - Richland
UID:37fa71ef19689033e5c0d6dd7be0f001@www.dallascollege.edu
END:VEVENT
END:VCALENDAR
