BEGIN:VCALENDAR
VERSION:2.0
X-WR-CALNAME:EventsCalendar
CALSCALE:GREGORIAN
BEGIN:VTIMEZONE
TZID:America/Chicago
LAST-MODIFIED:20231222T233358Z
TZURL:https://www.tzurl.org/zoneinfo-outlook/America/Chicago
X-LIC-LOCATION:America/Chicago
BEGIN:DAYLIGHT
TZNAME:CDT
TZOFFSETFROM:-0600
TZOFFSETTO:-0500
DTSTART:19700308T020000
RRULE:FREQ=YEARLY;BYMONTH=3;BYDAY=2SU
END:DAYLIGHT
BEGIN:STANDARD
TZNAME:CST
TZOFFSETFROM:-0500
TZOFFSETTO:-0600
DTSTART:19701101T020000
RRULE:FREQ=YEARLY;BYMONTH=11;BYDAY=1SU
END:STANDARD
END:VTIMEZONE
BEGIN:VEVENT
CATEGORIES:Category,Student Life,Location,Richland
DESCRIPTION:Richland Campus El Paso Student Lounge 11am - 1pm131539
DTSTAMP:20260422T182342
DTSTART;TZID=America/Chicago:20251007T110000
DTEND;TZID=America/Chicago:20251007T130000
LOCATION:Richland
SUMMARY;LANGUAGE=en-us:Richland Voter Education Rally
UID:cb710aea9a0ae8b4133707563123925f@www.dallascollege.edu
END:VEVENT
END:VCALENDAR
