BEGIN:VCALENDAR
VERSION:2.0
X-WR-CALNAME:EventsCalendar
CALSCALE:GREGORIAN
BEGIN:VTIMEZONE
TZID:America/Chicago
LAST-MODIFIED:20231222T233358Z
TZURL:https://www.tzurl.org/zoneinfo-outlook/America/Chicago
X-LIC-LOCATION:America/Chicago
BEGIN:DAYLIGHT
TZNAME:CDT
TZOFFSETFROM:-0600
TZOFFSETTO:-0500
DTSTART:19700308T020000
RRULE:FREQ=YEARLY;BYMONTH=3;BYDAY=2SU
END:DAYLIGHT
BEGIN:STANDARD
TZNAME:CST
TZOFFSETFROM:-0500
TZOFFSETTO:-0600
DTSTART:19701101T020000
RRULE:FREQ=YEARLY;BYMONTH=11;BYDAY=1SU
END:STANDARD
END:VTIMEZONE
BEGIN:VEVENT
CATEGORIES:Category,Student Life,Location,Cedar Valley
DESCRIPTION:Cedar Valley Campus 11am - 1pm D-100132138
DTSTAMP:20260422T182738
DTSTART;TZID=America/Chicago:20250916T110000
DTEND;TZID=America/Chicago:20250916T140000
LOCATION:Cedar Valley
SUMMARY;LANGUAGE=en-us:CVC - National Voter Registration Day
UID:e706d8538606d277f2252d696414f86d@www.dallascollege.edu
END:VEVENT
END:VCALENDAR
