BEGIN:VCALENDAR
VERSION:2.0
X-WR-CALNAME:EventsCalendar
CALSCALE:GREGORIAN
BEGIN:VTIMEZONE
TZID:America/Chicago
LAST-MODIFIED:20231222T233358Z
TZURL:https://www.tzurl.org/zoneinfo-outlook/America/Chicago
X-LIC-LOCATION:America/Chicago
BEGIN:DAYLIGHT
TZNAME:CDT
TZOFFSETFROM:-0600
TZOFFSETTO:-0500
DTSTART:19700308T020000
RRULE:FREQ=YEARLY;BYMONTH=3;BYDAY=2SU
END:DAYLIGHT
BEGIN:STANDARD
TZNAME:CST
TZOFFSETFROM:-0500
TZOFFSETTO:-0600
DTSTART:19701101T020000
RRULE:FREQ=YEARLY;BYMONTH=11;BYDAY=1SU
END:STANDARD
END:VTIMEZONE
BEGIN:VEVENT
CATEGORIES:Category,Student Life,Location,Cedar Valley
DESCRIPTION:Cedar Valley Campus D-100 11am - 2pm132151
DTSTAMP:20260422T140240
DTSTART;TZID=America/Chicago:20250924T110000
DTEND;TZID=America/Chicago:20250924T140000
LOCATION:Cedar Valley
SUMMARY;LANGUAGE=en-us:Cedar Valley Campus Registered Student Organization Expo Fall 2025
UID:502ff5e46fdbab6a526dc6a1f4e6161a@www.dallascollege.edu
END:VEVENT
BEGIN:VEVENT
CATEGORIES:Category,Student Life,Location,Cedar Valley
DESCRIPTION:Cedar Valley Campus D-100 11am - 2pm132151
DTSTAMP:20260422T140240
DTSTART;TZID=America/Chicago:20250925T110000
DTEND;TZID=America/Chicago:20250925T140000
LOCATION:Cedar Valley
SUMMARY;LANGUAGE=en-us:Cedar Valley Campus Registered Student Organization Expo Fall 2025
UID:cda58a8ab46cb32b28a21edc2c8c3f40@www.dallascollege.edu
END:VEVENT
END:VCALENDAR
