BEGIN:VCALENDAR
VERSION:2.0
X-WR-CALNAME:EventsCalendar
CALSCALE:GREGORIAN
BEGIN:VTIMEZONE
TZID:America/Chicago
LAST-MODIFIED:20231222T233358Z
TZURL:https://www.tzurl.org/zoneinfo-outlook/America/Chicago
X-LIC-LOCATION:America/Chicago
BEGIN:DAYLIGHT
TZNAME:CDT
TZOFFSETFROM:-0600
TZOFFSETTO:-0500
DTSTART:19700308T020000
RRULE:FREQ=YEARLY;BYMONTH=3;BYDAY=2SU
END:DAYLIGHT
BEGIN:STANDARD
TZNAME:CST
TZOFFSETFROM:-0500
TZOFFSETTO:-0600
DTSTART:19701101T020000
RRULE:FREQ=YEARLY;BYMONTH=11;BYDAY=1SU
END:STANDARD
END:VTIMEZONE
BEGIN:VEVENT
CATEGORIES:Category,Other,Location,Online
DESCRIPTION:Dallas College veteran students receive transfer college credits for completed military occupation training. In this session, we will help you to determine what your college-transferred equivalency credits are for faster degree coursework completion. Let us help you understand the process! Location:&amp;nbsp;On-the-Go/Virtual, All Campuses Sign up to attend a session.132186
DTSTAMP:20260422T202438
DTSTART;TZID=America/Chicago:20250905T100000
DTEND;TZID=America/Chicago:20250905T120000
LOCATION:Online
SUMMARY;LANGUAGE=en-us:Veterans Military Transcript Evaluation, On-the-Go/Virtual
UID:49753b99f07155d54b21646370236c30@www.dallascollege.edu
END:VEVENT
BEGIN:VEVENT
CATEGORIES:Category,Other,Location,Online
DESCRIPTION:Dallas College veteran students receive transfer college credits for completed military occupation training. In this session, we will help you to determine what your college-transferred equivalency credits are for faster degree coursework completion. Let us help you understand the process! Location:&amp;nbsp;On-the-Go/Virtual, All Campuses Sign up to attend a session.132186
DTSTAMP:20260422T202438
DTSTART;TZID=America/Chicago:20250912T100000
DTEND;TZID=America/Chicago:20250912T120000
LOCATION:Online
SUMMARY;LANGUAGE=en-us:Veterans Military Transcript Evaluation, On-the-Go/Virtual
UID:8019a1c88b4d15578c348464f5c266fb@www.dallascollege.edu
END:VEVENT
BEGIN:VEVENT
CATEGORIES:Category,Other,Location,Online
DESCRIPTION:Dallas College veteran students receive transfer college credits for completed military occupation training. In this session, we will help you to determine what your college-transferred equivalency credits are for faster degree coursework completion. Let us help you understand the process! Location:&amp;nbsp;On-the-Go/Virtual, All Campuses Sign up to attend a session.132186
DTSTAMP:20260422T202438
DTSTART;TZID=America/Chicago:20250919T100000
DTEND;TZID=America/Chicago:20250919T120000
LOCATION:Online
SUMMARY;LANGUAGE=en-us:Veterans Military Transcript Evaluation, On-the-Go/Virtual
UID:8e0521711060f8e45ff1eb848d370f0c@www.dallascollege.edu
END:VEVENT
BEGIN:VEVENT
CATEGORIES:Category,Other,Location,Online
DESCRIPTION:Dallas College veteran students receive transfer college credits for completed military occupation training. In this session, we will help you to determine what your college-transferred equivalency credits are for faster degree coursework completion. Let us help you understand the process! Location:&amp;nbsp;On-the-Go/Virtual, All Campuses Sign up to attend a session.132186
DTSTAMP:20260422T202438
DTSTART;TZID=America/Chicago:20250926T100000
DTEND;TZID=America/Chicago:20250926T120000
LOCATION:Online
SUMMARY;LANGUAGE=en-us:Veterans Military Transcript Evaluation, On-the-Go/Virtual
UID:6b148ad016d96d268cac4bb93f3b5688@www.dallascollege.edu
END:VEVENT
BEGIN:VEVENT
CATEGORIES:Category,Other,Location,Online
DESCRIPTION:Dallas College veteran students receive transfer college credits for completed military occupation training. In this session, we will help you to determine what your college-transferred equivalency credits are for faster degree coursework completion. Let us help you understand the process! Location:&amp;nbsp;On-the-Go/Virtual, All Campuses Sign up to attend a session.132186
DTSTAMP:20260422T202438
DTSTART;TZID=America/Chicago:20251003T100000
DTEND;TZID=America/Chicago:20251003T120000
LOCATION:Online
SUMMARY;LANGUAGE=en-us:Veterans Military Transcript Evaluation, On-the-Go/Virtual
UID:8e847dab62a2a7410f24d6aba924fd7e@www.dallascollege.edu
END:VEVENT
BEGIN:VEVENT
CATEGORIES:Category,Other,Location,Online
DESCRIPTION:Dallas College veteran students receive transfer college credits for completed military occupation training. In this session, we will help you to determine what your college-transferred equivalency credits are for faster degree coursework completion. Let us help you understand the process! Location:&amp;nbsp;On-the-Go/Virtual, All Campuses Sign up to attend a session.132186
DTSTAMP:20260422T202438
DTSTART;TZID=America/Chicago:20251010T100000
DTEND;TZID=America/Chicago:20251010T120000
LOCATION:Online
SUMMARY;LANGUAGE=en-us:Veterans Military Transcript Evaluation, On-the-Go/Virtual
UID:f06b17bdd023ff9fd40bf76877d2e005@www.dallascollege.edu
END:VEVENT
BEGIN:VEVENT
CATEGORIES:Category,Other,Location,Online
DESCRIPTION:Dallas College veteran students receive transfer college credits for completed military occupation training. In this session, we will help you to determine what your college-transferred equivalency credits are for faster degree coursework completion. Let us help you understand the process! Location:&amp;nbsp;On-the-Go/Virtual, All Campuses Sign up to attend a session.132186
DTSTAMP:20260422T202438
DTSTART;TZID=America/Chicago:20251017T100000
DTEND;TZID=America/Chicago:20251017T120000
LOCATION:Online
SUMMARY;LANGUAGE=en-us:Veterans Military Transcript Evaluation, On-the-Go/Virtual
UID:b6c92aafbf6ade35e858cb0a5c795cd1@www.dallascollege.edu
END:VEVENT
BEGIN:VEVENT
CATEGORIES:Category,Other,Location,Online
DESCRIPTION:Dallas College veteran students receive transfer college credits for completed military occupation training. In this session, we will help you to determine what your college-transferred equivalency credits are for faster degree coursework completion. Let us help you understand the process! Location:&amp;nbsp;On-the-Go/Virtual, All Campuses Sign up to attend a session.132186
DTSTAMP:20260422T202438
DTSTART;TZID=America/Chicago:20251024T100000
DTEND;TZID=America/Chicago:20251024T120000
LOCATION:Online
SUMMARY;LANGUAGE=en-us:Veterans Military Transcript Evaluation, On-the-Go/Virtual
UID:b7393dae4745310351aed3570d55ee78@www.dallascollege.edu
END:VEVENT
BEGIN:VEVENT
CATEGORIES:Category,Other,Location,Online
DESCRIPTION:Dallas College veteran students receive transfer college credits for completed military occupation training. In this session, we will help you to determine what your college-transferred equivalency credits are for faster degree coursework completion. Let us help you understand the process! Location:&amp;nbsp;On-the-Go/Virtual, All Campuses Sign up to attend a session.132186
DTSTAMP:20260422T202438
DTSTART;TZID=America/Chicago:20251031T100000
DTEND;TZID=America/Chicago:20251031T120000
LOCATION:Online
SUMMARY;LANGUAGE=en-us:Veterans Military Transcript Evaluation, On-the-Go/Virtual
UID:07ec49606487a08b4b012d2f86fc8e37@www.dallascollege.edu
END:VEVENT
BEGIN:VEVENT
CATEGORIES:Category,Other,Location,Online
DESCRIPTION:Dallas College veteran students receive transfer college credits for completed military occupation training. In this session, we will help you to determine what your college-transferred equivalency credits are for faster degree coursework completion. Let us help you understand the process! Location:&amp;nbsp;On-the-Go/Virtual, All Campuses Sign up to attend a session.132186
DTSTAMP:20260422T202438
DTSTART;TZID=America/Chicago:20251107T100000
DTEND;TZID=America/Chicago:20251107T120000
LOCATION:Online
SUMMARY;LANGUAGE=en-us:Veterans Military Transcript Evaluation, On-the-Go/Virtual
UID:fd70d8cab332ebb94b7bb687bc7bb39b@www.dallascollege.edu
END:VEVENT
BEGIN:VEVENT
CATEGORIES:Category,Other,Location,Online
DESCRIPTION:Dallas College veteran students receive transfer college credits for completed military occupation training. In this session, we will help you to determine what your college-transferred equivalency credits are for faster degree coursework completion. Let us help you understand the process! Location:&amp;nbsp;On-the-Go/Virtual, All Campuses Sign up to attend a session.132186
DTSTAMP:20260422T202438
DTSTART;TZID=America/Chicago:20251114T100000
DTEND;TZID=America/Chicago:20251114T120000
LOCATION:Online
SUMMARY;LANGUAGE=en-us:Veterans Military Transcript Evaluation, On-the-Go/Virtual
UID:dfd7a9e57f4aed2d1f2127ccb64df2e1@www.dallascollege.edu
END:VEVENT
BEGIN:VEVENT
CATEGORIES:Category,Other,Location,Online
DESCRIPTION:Dallas College veteran students receive transfer college credits for completed military occupation training. In this session, we will help you to determine what your college-transferred equivalency credits are for faster degree coursework completion. Let us help you understand the process! Location:&amp;nbsp;On-the-Go/Virtual, All Campuses Sign up to attend a session.132186
DTSTAMP:20260422T202438
DTSTART;TZID=America/Chicago:20251121T100000
DTEND;TZID=America/Chicago:20251121T120000
LOCATION:Online
SUMMARY;LANGUAGE=en-us:Veterans Military Transcript Evaluation, On-the-Go/Virtual
UID:f3210d9ea9ee44bce9038fa0d8fdd8d9@www.dallascollege.edu
END:VEVENT
END:VCALENDAR
