BEGIN:VCALENDAR
VERSION:2.0
X-WR-CALNAME:EventsCalendar
CALSCALE:GREGORIAN
BEGIN:VTIMEZONE
TZID:America/Chicago
LAST-MODIFIED:20231222T233358Z
TZURL:https://www.tzurl.org/zoneinfo-outlook/America/Chicago
X-LIC-LOCATION:America/Chicago
BEGIN:DAYLIGHT
TZNAME:CDT
TZOFFSETFROM:-0600
TZOFFSETTO:-0500
DTSTART:19700308T020000
RRULE:FREQ=YEARLY;BYMONTH=3;BYDAY=2SU
END:DAYLIGHT
BEGIN:STANDARD
TZNAME:CST
TZOFFSETFROM:-0500
TZOFFSETTO:-0600
DTSTART:19701101T020000
RRULE:FREQ=YEARLY;BYMONTH=11;BYDAY=1SU
END:STANDARD
END:VTIMEZONE
BEGIN:VEVENT
CATEGORIES:Category,Student Life,Location,Richland
DESCRIPTION:Every 4th Wednesday of the month at 2:30pm Location E032132477
DTSTAMP:20260422T163745
DTSTART;TZID=America/Chicago:20250924T143000
DTEND;TZID=America/Chicago:20250924T160000
LOCATION:Richland
SUMMARY;LANGUAGE=en-us:Richland Campus SGA General Assembly Meeting
UID:d755492ec744b2b3e7ddaaf132521e81@www.dallascollege.edu
END:VEVENT
BEGIN:VEVENT
CATEGORIES:Category,Student Life,Location,Richland
DESCRIPTION:Every 4th Wednesday of the month at 2:30pm Location E032132477
DTSTAMP:20260422T163745
DTSTART;TZID=America/Chicago:20251024T143000
DTEND;TZID=America/Chicago:20251024T160000
LOCATION:Richland
SUMMARY;LANGUAGE=en-us:Richland Campus SGA General Assembly Meeting
UID:774a9aeb20d54827e3f808ddcf3eb558@www.dallascollege.edu
END:VEVENT
BEGIN:VEVENT
CATEGORIES:Category,Student Life,Location,Richland
DESCRIPTION:Every 4th Wednesday of the month at 2:30pm Location E032132477
DTSTAMP:20260422T163745
DTSTART;TZID=America/Chicago:20251124T143000
DTEND;TZID=America/Chicago:20251124T160000
LOCATION:Richland
SUMMARY;LANGUAGE=en-us:Richland Campus SGA General Assembly Meeting
UID:044506e8081a72bf25f70fdf81c7bf19@www.dallascollege.edu
END:VEVENT
BEGIN:VEVENT
CATEGORIES:Category,Student Life,Location,Richland
DESCRIPTION:Every 4th Wednesday of the month at 2:30pm Location E032132477
DTSTAMP:20260422T163745
DTSTART;TZID=America/Chicago:20251224T143000
DTEND;TZID=America/Chicago:20251224T160000
LOCATION:Richland
SUMMARY;LANGUAGE=en-us:Richland Campus SGA General Assembly Meeting
UID:91b9638983f244529595b4603e5ed03a@www.dallascollege.edu
END:VEVENT
BEGIN:VEVENT
CATEGORIES:Category,Student Life,Location,Richland
DESCRIPTION:Every 4th Wednesday of the month at 2:30pm Location E032132477
DTSTAMP:20260422T163745
DTSTART;TZID=America/Chicago:20260124T143000
DTEND;TZID=America/Chicago:20260124T160000
LOCATION:Richland
SUMMARY;LANGUAGE=en-us:Richland Campus SGA General Assembly Meeting
UID:5c57dc9d681a4f0ae6912bb7024d837d@www.dallascollege.edu
END:VEVENT
BEGIN:VEVENT
CATEGORIES:Category,Student Life,Location,Richland
DESCRIPTION:Every 4th Wednesday of the month at 2:30pm Location E032132477
DTSTAMP:20260422T163745
DTSTART;TZID=America/Chicago:20260224T143000
DTEND;TZID=America/Chicago:20260224T160000
LOCATION:Richland
SUMMARY;LANGUAGE=en-us:Richland Campus SGA General Assembly Meeting
UID:dc8bf7aa94fbcde9a152dd7e4a747c6e@www.dallascollege.edu
END:VEVENT
BEGIN:VEVENT
CATEGORIES:Category,Student Life,Location,Richland
DESCRIPTION:Every 4th Wednesday of the month at 2:30pm Location E032132477
DTSTAMP:20260422T163745
DTSTART;TZID=America/Chicago:20260324T143000
DTEND;TZID=America/Chicago:20260324T160000
LOCATION:Richland
SUMMARY;LANGUAGE=en-us:Richland Campus SGA General Assembly Meeting
UID:e90474a8979677876966c3044df3c172@www.dallascollege.edu
END:VEVENT
END:VCALENDAR
