BEGIN:VCALENDAR
VERSION:2.0
X-WR-CALNAME:EventsCalendar
CALSCALE:GREGORIAN
BEGIN:VTIMEZONE
TZID:America/Chicago
LAST-MODIFIED:20231222T233358Z
TZURL:https://www.tzurl.org/zoneinfo-outlook/America/Chicago
X-LIC-LOCATION:America/Chicago
BEGIN:DAYLIGHT
TZNAME:CDT
TZOFFSETFROM:-0600
TZOFFSETTO:-0500
DTSTART:19700308T020000
RRULE:FREQ=YEARLY;BYMONTH=3;BYDAY=2SU
END:DAYLIGHT
BEGIN:STANDARD
TZNAME:CST
TZOFFSETFROM:-0500
TZOFFSETTO:-0600
DTSTART:19701101T020000
RRULE:FREQ=YEARLY;BYMONTH=11;BYDAY=1SU
END:STANDARD
END:VTIMEZONE
BEGIN:VEVENT
CATEGORIES:Category,Counseling and Psychological Services,Location,El Centro,Tag,Suicide Prevention Month
DESCRIPTION:Take action and raise awareness&amp;nbsp; to help prevent suicide. Our informational cart will be available on campus, offering vital resources, educational materials, suicide awareness pins and snacks. Stop by, get informed, and take a stand with us in the fight against suicide.&amp;nbsp; Location: El Cento Campus - Campus Wide This event is hosted by Dallas College Counseling and Psychological Services (CAPS). CAPS provides free mental health counseling services to Dallas College students. For questions or appointment requests, email Counseling@DallasCollege.edu. If you&#039;re interested in attending more CAPS events, visit DallasCollege.edu/CounselingEvents. Your world can be stressful - we&#039;re here to help. To meet our team of counselors, students can visit DallasCollege.edu/Counselors.132591
DTSTAMP:20260422T232906
DTSTART;TZID=America/Chicago:20250910T130000
DTEND;TZID=America/Chicago:20250910T150000
LOCATION:El Centro
SUMMARY;LANGUAGE=en-us:World Suicide Prevention Day (WSPD)
UID:36b2e71e10d28450c26edbed5057f5ed@www.dallascollege.edu
END:VEVENT
END:VCALENDAR
