BEGIN:VCALENDAR
VERSION:2.0
X-WR-CALNAME:EventsCalendar
CALSCALE:GREGORIAN
BEGIN:VTIMEZONE
TZID:America/Chicago
LAST-MODIFIED:20231222T233358Z
TZURL:https://www.tzurl.org/zoneinfo-outlook/America/Chicago
X-LIC-LOCATION:America/Chicago
BEGIN:DAYLIGHT
TZNAME:CDT
TZOFFSETFROM:-0600
TZOFFSETTO:-0500
DTSTART:19700308T020000
RRULE:FREQ=YEARLY;BYMONTH=3;BYDAY=2SU
END:DAYLIGHT
BEGIN:STANDARD
TZNAME:CST
TZOFFSETFROM:-0500
TZOFFSETTO:-0600
DTSTART:19701101T020000
RRULE:FREQ=YEARLY;BYMONTH=11;BYDAY=1SU
END:STANDARD
END:VTIMEZONE
BEGIN:VEVENT
CATEGORIES:Category,Counseling and Psychological Services,Location,North Lake,Tag,Suicide Prevention Month
DESCRIPTION:On September 10th, during National Suicide Prevention Month, Dallas College is coming together to raise awareness with World Suicide Prevention Day! Join the North Lake CAPS team on an awareness walk or stop by our information table as a call to action and reminder that there is hope. Location:&amp;nbsp; North Lake Campus - Lakeside Patio This event is hosted by Dallas College Counseling and Psychological Services (CAPS). CAPS provides free mental health counseling services to Dallas College students. For questions or appointment requests, email Counseling@DallasCollege.edu. If you&#039;re interested in attending more CAPS events, visit DallasCollege.edu/CounselingEvents. Your world can be stressful - we&#039;re here to help. To meet our team of counselors, students can visit DallasCollege.edu/Counselors.132617
DTSTAMP:20260422T182537
DTSTART;TZID=America/Chicago:20250910T130000
DTEND;TZID=America/Chicago:20250910T140000
LOCATION:North Lake
SUMMARY;LANGUAGE=en-us:World Suicide Prevention Day Wellness Walk 
UID:8ded1a5b56cc7b976a42bcc85fa0f2fb@www.dallascollege.edu
END:VEVENT
END:VCALENDAR
