BEGIN:VCALENDAR
VERSION:2.0
X-WR-CALNAME:EventsCalendar
CALSCALE:GREGORIAN
BEGIN:VTIMEZONE
TZID:America/Chicago
LAST-MODIFIED:20231222T233358Z
TZURL:https://www.tzurl.org/zoneinfo-outlook/America/Chicago
X-LIC-LOCATION:America/Chicago
BEGIN:DAYLIGHT
TZNAME:CDT
TZOFFSETFROM:-0600
TZOFFSETTO:-0500
DTSTART:19700308T020000
RRULE:FREQ=YEARLY;BYMONTH=3;BYDAY=2SU
END:DAYLIGHT
BEGIN:STANDARD
TZNAME:CST
TZOFFSETFROM:-0500
TZOFFSETTO:-0600
DTSTART:19701101T020000
RRULE:FREQ=YEARLY;BYMONTH=11;BYDAY=1SU
END:STANDARD
END:VTIMEZONE
BEGIN:VEVENT
CATEGORIES:Category,Counseling and Psychological Services,Location,Brookhaven
DESCRIPTION:Students, staff, and community members are invited to come together for our Unity Day Walk to show solidarity and promote a culture and climate of kindness, acceptance, and inclusion on our campuses. Participants are encouraged to wear orange because it is vibrant, warm, inviting, and associated with safety and visibility. Location: Brookhaven Campus - T Building&amp;nbsp; This event is hosted by Dallas College Counseling and Psychological Services (CAPS). CAPS provides free mental health counseling services to Dallas College students. For questions or appointment requests, email Counseling@DallasCollege.edu. If you&#039;re interested in attending more CAPS events, visit DallasCollege.edu/CounselingEvents. Your world can be stressful - we&#039;re here to help. To meet our team of counselors, students can visit DallasCollege.edu/Counselors.132645
DTSTAMP:20260422T140548
DTSTART;TZID=America/Chicago:20251022T123000
DTEND;TZID=America/Chicago:20251022T133000
LOCATION:Brookhaven
SUMMARY;LANGUAGE=en-us:Unity Walk BHC
UID:21f011592179eb0cffa5a77e861e0314@www.dallascollege.edu
END:VEVENT
END:VCALENDAR
