BEGIN:VCALENDAR
VERSION:2.0
X-WR-CALNAME:EventsCalendar
CALSCALE:GREGORIAN
BEGIN:VTIMEZONE
TZID:America/Chicago
LAST-MODIFIED:20231222T233358Z
TZURL:https://www.tzurl.org/zoneinfo-outlook/America/Chicago
X-LIC-LOCATION:America/Chicago
BEGIN:DAYLIGHT
TZNAME:CDT
TZOFFSETFROM:-0600
TZOFFSETTO:-0500
DTSTART:19700308T020000
RRULE:FREQ=YEARLY;BYMONTH=3;BYDAY=2SU
END:DAYLIGHT
BEGIN:STANDARD
TZNAME:CST
TZOFFSETFROM:-0500
TZOFFSETTO:-0600
DTSTART:19701101T020000
RRULE:FREQ=YEARLY;BYMONTH=11;BYDAY=1SU
END:STANDARD
END:VTIMEZONE
BEGIN:VEVENT
CATEGORIES:Category,Counseling and Psychological Services,Location,North Lake
DESCRIPTION:Learn how to bounce back and have a positive outlook. Students, staff, and faculty are welcome to join in the 5-session series by CAPS Counselor Sijoon Jang to find out more. 5 pillars of resilience (self-awareness, mindfulness, self-care, positive relationships, and purpose) will guide you along. Location: North Lake Campus - Room C208 This event is hosted by Dallas College Counseling and Psychological Services (CAPS). CAPS provides free mental health counseling services to Dallas College students. For questions or appointment requests, email Counseling@DallasCollege.edu. If you&#039;re interested in attending more CAPS events, visit DallasCollege.edu/CounselingEvents. Your world can be stressful - we&#039;re here to help. To meet our team of counselors, students can visit DallasCollege.edu/Counselors.132811
DTSTAMP:20260422T180524
DTSTART;TZID=America/Chicago:20251023T123000
DTEND;TZID=America/Chicago:20251023T133000
LOCATION:North Lake
SUMMARY;LANGUAGE=en-us:Building Resilience and Growth Mindset
UID:4c1f916edf3baa0897cc27c519b81697@www.dallascollege.edu
END:VEVENT
END:VCALENDAR
