BEGIN:VCALENDAR
VERSION:2.0
X-WR-CALNAME:EventsCalendar
CALSCALE:GREGORIAN
BEGIN:VTIMEZONE
TZID:America/Chicago
LAST-MODIFIED:20231222T233358Z
TZURL:https://www.tzurl.org/zoneinfo-outlook/America/Chicago
X-LIC-LOCATION:America/Chicago
BEGIN:DAYLIGHT
TZNAME:CDT
TZOFFSETFROM:-0600
TZOFFSETTO:-0500
DTSTART:19700308T020000
RRULE:FREQ=YEARLY;BYMONTH=3;BYDAY=2SU
END:DAYLIGHT
BEGIN:STANDARD
TZNAME:CST
TZOFFSETFROM:-0500
TZOFFSETTO:-0600
DTSTART:19701101T020000
RRULE:FREQ=YEARLY;BYMONTH=11;BYDAY=1SU
END:STANDARD
END:VTIMEZONE
BEGIN:VEVENT
CATEGORIES:Category,Counseling and Psychological Services,Location,North Lake,Location,Online,Tag,AS+K Suicide Prevention Training ,Tag,Suicide Prevention Month
DESCRIPTION:Did you know suicide is a leading cause of death across multiple age groups, and is the second leading cause of death for ages 20-34?&amp;nbsp; We&#039;ll discuss risk factors, protective factors, and warning signs related to suicide and how to connect to care if you think someone may be struggling. Participants will learn about on-campus and community resources for mental health and well-being. Location:&amp;nbsp; North Lake Campus - Virtual&amp;nbsp; This event is hosted by Dallas College Counseling and Psychological Services (CAPS). CAPS provides free mental health counseling services to Dallas College students. For questions or appointment requests, email Counseling@DallasCollege.edu. If you&#039;re interested in attending more CAPS events, visit DallasCollege.edu/CounselingEvents. Your world can be stressful - we&#039;re here to help. To meet our team of counselors, students can visit DallasCollege.edu/Counselors.132873
DTSTAMP:20260422T181422
DTSTART;TZID=America/Chicago:20251121T110000
DTEND;TZID=America/Chicago:20251121T123000
LOCATION:North Lake, Online
SUMMARY;LANGUAGE=en-us:AS+K Suicide Prevention Gatekeeper Training
UID:d2dbfd8f8f96cfdadef4fe00640c5f2a@www.dallascollege.edu
END:VEVENT
END:VCALENDAR
