BEGIN:VCALENDAR
VERSION:2.0
X-WR-CALNAME:EventsCalendar
CALSCALE:GREGORIAN
BEGIN:VTIMEZONE
TZID:America/Chicago
LAST-MODIFIED:20231222T233358Z
TZURL:https://www.tzurl.org/zoneinfo-outlook/America/Chicago
X-LIC-LOCATION:America/Chicago
BEGIN:DAYLIGHT
TZNAME:CDT
TZOFFSETFROM:-0600
TZOFFSETTO:-0500
DTSTART:19700308T020000
RRULE:FREQ=YEARLY;BYMONTH=3;BYDAY=2SU
END:DAYLIGHT
BEGIN:STANDARD
TZNAME:CST
TZOFFSETFROM:-0500
TZOFFSETTO:-0600
DTSTART:19701101T020000
RRULE:FREQ=YEARLY;BYMONTH=11;BYDAY=1SU
END:STANDARD
END:VTIMEZONE
BEGIN:VEVENT
CATEGORIES:Category,Counseling and Psychological Services,Location,Brookhaven,Location,Online
DESCRIPTION:Tools to Thrive workshop series provides practical skills and strategies to enhance productivity and well-being. Mindfulness: Explore techniques for integrating mindfulness into daily life and its benefits for reducing stress. Location:&amp;nbsp; Brookhaven Campus - Virtual&amp;nbsp; This event is hosted by Dallas College Counseling and Psychological Services (CAPS). CAPS provides free mental health counseling services to Dallas College students. For questions or appointment requests, email Counseling@DallasCollege.edu. If you&#039;re interested in attending more CAPS events, visit DallasCollege.edu/CounselingEvents. Your world can be stressful - we&#039;re here to help. To meet our team of counselors, students can visit DallasCollege.edu/Counselors.132915
DTSTAMP:20260422T182047
DTSTART;TZID=America/Chicago:20251204T133000
DTEND;TZID=America/Chicago:20251204T143000
LOCATION:Brookhaven, Online
SUMMARY;LANGUAGE=en-us:Tools to Thrive Series: Mind Full or Mindful? Learn to Breathe in and Zen Out
UID:01367129f25b7621b105ebfbd7264bed@www.dallascollege.edu
END:VEVENT
END:VCALENDAR
