BEGIN:VCALENDAR
VERSION:2.0
X-WR-CALNAME:EventsCalendar
CALSCALE:GREGORIAN
BEGIN:VTIMEZONE
TZID:America/Chicago
LAST-MODIFIED:20231222T233358Z
TZURL:https://www.tzurl.org/zoneinfo-outlook/America/Chicago
X-LIC-LOCATION:America/Chicago
BEGIN:DAYLIGHT
TZNAME:CDT
TZOFFSETFROM:-0600
TZOFFSETTO:-0500
DTSTART:19700308T020000
RRULE:FREQ=YEARLY;BYMONTH=3;BYDAY=2SU
END:DAYLIGHT
BEGIN:STANDARD
TZNAME:CST
TZOFFSETFROM:-0500
TZOFFSETTO:-0600
DTSTART:19701101T020000
RRULE:FREQ=YEARLY;BYMONTH=11;BYDAY=1SU
END:STANDARD
END:VTIMEZONE
BEGIN:VEVENT
CATEGORIES:Category,Counseling and Psychological Services,Location,North Lake
DESCRIPTION:Learn to practice self-care in the moment, when you need it the most! By engaging in gentle yoga poses and mindful movements that are designed to be done anywhere, anytime to promote mind-body connection, get centered, feel a sense of calm, or a boost of energy to keep moving forward.&amp;nbsp; Location: North Lake Campus, Room H226 This event is hosted by Dallas College Counseling and Psychological Services (CAPS). CAPS provides free mental health counseling services to Dallas College students. For questions or appointment requests, email Counseling@DallasCollege.edu. If you&#039;re interested in attending more CAPS events, visit DallasCollege.edu/CounselingEvents. Your world can be stressful - we&#039;re here to help. To meet our team of counselors, students can visit DallasCollege.edu/Counselors.133296
DTSTAMP:20260422T200308
DTSTART;TZID=America/Chicago:20251203T130000
DTEND;TZID=America/Chicago:20251203T133000
LOCATION:North Lake
SUMMARY;LANGUAGE=en-us:Finals Event :  Mindful Movement: To Calm the Mind &amp; body
UID:73699fa11c1335999200b6ef2221c297@www.dallascollege.edu
END:VEVENT
END:VCALENDAR
