BEGIN:VCALENDAR
VERSION:2.0
X-WR-CALNAME:EventsCalendar
CALSCALE:GREGORIAN
BEGIN:VTIMEZONE
TZID:America/Chicago
LAST-MODIFIED:20231222T233358Z
TZURL:https://www.tzurl.org/zoneinfo-outlook/America/Chicago
X-LIC-LOCATION:America/Chicago
BEGIN:DAYLIGHT
TZNAME:CDT
TZOFFSETFROM:-0600
TZOFFSETTO:-0500
DTSTART:19700308T020000
RRULE:FREQ=YEARLY;BYMONTH=3;BYDAY=2SU
END:DAYLIGHT
BEGIN:STANDARD
TZNAME:CST
TZOFFSETFROM:-0500
TZOFFSETTO:-0600
DTSTART:19701101T020000
RRULE:FREQ=YEARLY;BYMONTH=11;BYDAY=1SU
END:STANDARD
END:VTIMEZONE
BEGIN:VEVENT
CATEGORIES:Category,Student Life,Location,Cedar Valley,Tag,Hand In Hand (Foster Care),Tag,Support Programs,Tag,Male Achievement Program,Tag,Military-Connected Services
DESCRIPTION:Show us what you&#039;ve got! Calling all students and faculty/staff: Come display your gifts and talents at our second annual Back2School Talent Show! Let&amp;rsquo;s kick off the academic year with energy, creativity and a little friendly competition! Meet your Student Government Association and connect with campus clubs while enjoying an afternoon of music, laughter and jaw-dropping performances. Prizes will be awarded for first, second and third place &amp;mdash; plus, enjoy a special performance by one of our amazing student artists! Don&amp;rsquo;t miss this chance to shine or cheer on your fellow Suns! Interested in performing?&amp;nbsp;Sign up online! Location:&amp;nbsp;Cedar Valley Campus, E Building, Performance Hall133456
DTSTAMP:20260422T182534
DTSTART;TZID=America/Chicago:20250911T113000
DTEND;TZID=America/Chicago:20250911T133000
LOCATION:Cedar Valley
SUMMARY;LANGUAGE=en-us:Live at the Valley Back2School Talent Show
UID:503f2462b819c22fc40eca098ebb24b0@www.dallascollege.edu
END:VEVENT
END:VCALENDAR
