BEGIN:VCALENDAR
VERSION:2.0
X-WR-CALNAME:EventsCalendar
CALSCALE:GREGORIAN
BEGIN:VTIMEZONE
TZID:America/Chicago
LAST-MODIFIED:20231222T233358Z
TZURL:https://www.tzurl.org/zoneinfo-outlook/America/Chicago
X-LIC-LOCATION:America/Chicago
BEGIN:DAYLIGHT
TZNAME:CDT
TZOFFSETFROM:-0600
TZOFFSETTO:-0500
DTSTART:19700308T020000
RRULE:FREQ=YEARLY;BYMONTH=3;BYDAY=2SU
END:DAYLIGHT
BEGIN:STANDARD
TZNAME:CST
TZOFFSETFROM:-0500
TZOFFSETTO:-0600
DTSTART:19701101T020000
RRULE:FREQ=YEARLY;BYMONTH=11;BYDAY=1SU
END:STANDARD
END:VTIMEZONE
BEGIN:VEVENT
CATEGORIES:Category,Student Life,Location,Mountain View,Tag,Hispanic Heritage Month ,Tag,Male Achievement Program
DESCRIPTION:Dive into the essence of &amp;ldquo;Lucha Legacy,&amp;rdquo; an unforgettable Lucha Libre event that intertwines Mexico&#039;s history, culture and the essence of masculine strength. Join us in honoring tradition as iconic masked fighters bring to life a tribute to heritage and determination. Location: Mountain View Campus, S Building - Courtyard133978
DTSTAMP:20260422T182239
DTSTART;TZID=America/Chicago:20251009T170000
DTEND;TZID=America/Chicago:20251009T200000
LOCATION:Mountain View
SUMMARY;LANGUAGE=en-us:Lucha Legacy: Empowerment In the Ring
UID:76fc285204215d19aca268760527d680@www.dallascollege.edu
END:VEVENT
END:VCALENDAR
