BEGIN:VCALENDAR
VERSION:2.0
X-WR-CALNAME:EventsCalendar
CALSCALE:GREGORIAN
BEGIN:VTIMEZONE
TZID:America/Chicago
LAST-MODIFIED:20231222T233358Z
TZURL:https://www.tzurl.org/zoneinfo-outlook/America/Chicago
X-LIC-LOCATION:America/Chicago
BEGIN:DAYLIGHT
TZNAME:CDT
TZOFFSETFROM:-0600
TZOFFSETTO:-0500
DTSTART:19700308T020000
RRULE:FREQ=YEARLY;BYMONTH=3;BYDAY=2SU
END:DAYLIGHT
BEGIN:STANDARD
TZNAME:CST
TZOFFSETFROM:-0500
TZOFFSETTO:-0600
DTSTART:19701101T020000
RRULE:FREQ=YEARLY;BYMONTH=11;BYDAY=1SU
END:STANDARD
END:VTIMEZONE
BEGIN:VEVENT
CATEGORIES:Category,Other,Location,Garland Center,Tag,WorkReadyU
DESCRIPTION:Explore Your Future With WorkReadyU! Join a WorkReadyU Program Preview Session to learn about our upcoming Fall 2025 programs, including industry-recognized fast-track certificates, support services and funding opportunities. Education can be the door to your future &amp;mdash; and the entry-level experience gained through our fast-track certificates can be the key to unlocking it. Hear about programs across a variety of industries. Discover entry-level opportunities that support your growth. Learn about support services and financial resources. Attend in person at a Dallas College location Or join virtually via livestream. RSVP online&amp;nbsp;to select your preferred date and location. You&amp;rsquo;ll receive the in-person address or virtual link after registering.135255
DTSTAMP:20260422T181954
DTSTART;TZID=America/Chicago:20250903T130000
DTEND;TZID=America/Chicago:20250903T160000
LOCATION:Garland Center
SUMMARY;LANGUAGE=en-us:WorkReadyU Program Preview Session
UID:1eab1c669cd0115bdb1fea42e5dbba51@www.dallascollege.edu
END:VEVENT
BEGIN:VEVENT
CATEGORIES:Category,Other,Location,Garland Center,Tag,WorkReadyU
DESCRIPTION:Explore Your Future With WorkReadyU! Join a WorkReadyU Program Preview Session to learn about our upcoming Fall 2025 programs, including industry-recognized fast-track certificates, support services and funding opportunities. Education can be the door to your future &amp;mdash; and the entry-level experience gained through our fast-track certificates can be the key to unlocking it. Hear about programs across a variety of industries. Discover entry-level opportunities that support your growth. Learn about support services and financial resources. Attend in person at a Dallas College location Or join virtually via livestream. RSVP online&amp;nbsp;to select your preferred date and location. You&amp;rsquo;ll receive the in-person address or virtual link after registering.135255
DTSTAMP:20260422T181954
DTSTART;TZID=America/Chicago:20251001T130000
DTEND;TZID=America/Chicago:20251001T160000
LOCATION:Garland Center
SUMMARY;LANGUAGE=en-us:WorkReadyU Program Preview Session
UID:7158108bb51c6fb4688f7c09ec61b125@www.dallascollege.edu
END:VEVENT
BEGIN:VEVENT
CATEGORIES:Category,Other,Location,Garland Center,Tag,WorkReadyU
DESCRIPTION:Explore Your Future With WorkReadyU! Join a WorkReadyU Program Preview Session to learn about our upcoming Fall 2025 programs, including industry-recognized fast-track certificates, support services and funding opportunities. Education can be the door to your future &amp;mdash; and the entry-level experience gained through our fast-track certificates can be the key to unlocking it. Hear about programs across a variety of industries. Discover entry-level opportunities that support your growth. Learn about support services and financial resources. Attend in person at a Dallas College location Or join virtually via livestream. RSVP online&amp;nbsp;to select your preferred date and location. You&amp;rsquo;ll receive the in-person address or virtual link after registering.135255
DTSTAMP:20260422T181954
DTSTART;TZID=America/Chicago:20251105T130000
DTEND;TZID=America/Chicago:20251105T160000
LOCATION:Garland Center
SUMMARY;LANGUAGE=en-us:WorkReadyU Program Preview Session
UID:4ea08cb696ae9f6fccb0b31972f80b49@www.dallascollege.edu
END:VEVENT
BEGIN:VEVENT
CATEGORIES:Category,Other,Location,Garland Center,Tag,WorkReadyU
DESCRIPTION:Explore Your Future With WorkReadyU! Join a WorkReadyU Program Preview Session to learn about our upcoming Fall 2025 programs, including industry-recognized fast-track certificates, support services and funding opportunities. Education can be the door to your future &amp;mdash; and the entry-level experience gained through our fast-track certificates can be the key to unlocking it. Hear about programs across a variety of industries. Discover entry-level opportunities that support your growth. Learn about support services and financial resources. Attend in person at a Dallas College location Or join virtually via livestream. RSVP online&amp;nbsp;to select your preferred date and location. You&amp;rsquo;ll receive the in-person address or virtual link after registering.135255
DTSTAMP:20260422T181954
DTSTART;TZID=America/Chicago:20251203T130000
DTEND;TZID=America/Chicago:20251203T160000
LOCATION:Garland Center
SUMMARY;LANGUAGE=en-us:WorkReadyU Program Preview Session
UID:d2f8b79099fc3d61c85444b91fe03a65@www.dallascollege.edu
END:VEVENT
END:VCALENDAR
