BEGIN:VCALENDAR
VERSION:2.0
X-WR-CALNAME:EventsCalendar
CALSCALE:GREGORIAN
BEGIN:VTIMEZONE
TZID:America/Chicago
LAST-MODIFIED:20231222T233358Z
TZURL:https://www.tzurl.org/zoneinfo-outlook/America/Chicago
X-LIC-LOCATION:America/Chicago
BEGIN:DAYLIGHT
TZNAME:CDT
TZOFFSETFROM:-0600
TZOFFSETTO:-0500
DTSTART:19700308T020000
RRULE:FREQ=YEARLY;BYMONTH=3;BYDAY=2SU
END:DAYLIGHT
BEGIN:STANDARD
TZNAME:CST
TZOFFSETFROM:-0500
TZOFFSETTO:-0600
DTSTART:19701101T020000
RRULE:FREQ=YEARLY;BYMONTH=11;BYDAY=1SU
END:STANDARD
END:VTIMEZONE
BEGIN:VEVENT
CATEGORIES:Category,Other,Location,West Dallas Center,Tag,WorkReadyU
DESCRIPTION:Explore Your Future With WorkReadyU! Join a WorkReadyU Program Preview Session to learn about our upcoming Fall 2025 programs, including industry-recognized fast-track certificates, support services and funding opportunities. Education can be the door to your future &amp;mdash; and the entry-level experience gained through our fast-track certificates can be the key to unlocking it. Hear about programs across a variety of industries. Discover entry-level opportunities that support your growth. Learn about support services and financial resources. Attend in person at a Dallas College location Or join virtually via livestream. RSVP online&amp;nbsp;to select your preferred date and location. You&amp;rsquo;ll receive the in-person address or virtual link after registering.135258
DTSTAMP:20260423T023645
DTSTART;TZID=America/Chicago:20250917T130000
DTEND;TZID=America/Chicago:20250917T160000
LOCATION:West Dallas Center
SUMMARY;LANGUAGE=en-us:WorkReadyU Program Preview Session
UID:794a19bc7fbf4c411d52a74e3680ecc7@www.dallascollege.edu
END:VEVENT
BEGIN:VEVENT
CATEGORIES:Category,Other,Location,West Dallas Center,Tag,WorkReadyU
DESCRIPTION:Explore Your Future With WorkReadyU! Join a WorkReadyU Program Preview Session to learn about our upcoming Fall 2025 programs, including industry-recognized fast-track certificates, support services and funding opportunities. Education can be the door to your future &amp;mdash; and the entry-level experience gained through our fast-track certificates can be the key to unlocking it. Hear about programs across a variety of industries. Discover entry-level opportunities that support your growth. Learn about support services and financial resources. Attend in person at a Dallas College location Or join virtually via livestream. RSVP online&amp;nbsp;to select your preferred date and location. You&amp;rsquo;ll receive the in-person address or virtual link after registering.135258
DTSTAMP:20260423T023645
DTSTART;TZID=America/Chicago:20251015T130000
DTEND;TZID=America/Chicago:20251015T160000
LOCATION:West Dallas Center
SUMMARY;LANGUAGE=en-us:WorkReadyU Program Preview Session
UID:8dc57bdfcc38c07c6fb4a19befa55450@www.dallascollege.edu
END:VEVENT
BEGIN:VEVENT
CATEGORIES:Category,Other,Location,West Dallas Center,Tag,WorkReadyU
DESCRIPTION:Explore Your Future With WorkReadyU! Join a WorkReadyU Program Preview Session to learn about our upcoming Fall 2025 programs, including industry-recognized fast-track certificates, support services and funding opportunities. Education can be the door to your future &amp;mdash; and the entry-level experience gained through our fast-track certificates can be the key to unlocking it. Hear about programs across a variety of industries. Discover entry-level opportunities that support your growth. Learn about support services and financial resources. Attend in person at a Dallas College location Or join virtually via livestream. RSVP online&amp;nbsp;to select your preferred date and location. You&amp;rsquo;ll receive the in-person address or virtual link after registering.135258
DTSTAMP:20260423T023645
DTSTART;TZID=America/Chicago:20251119T130000
DTEND;TZID=America/Chicago:20251119T160000
LOCATION:West Dallas Center
SUMMARY;LANGUAGE=en-us:WorkReadyU Program Preview Session
UID:a9357acbac211ebcd5fe0e546ff62e53@www.dallascollege.edu
END:VEVENT
BEGIN:VEVENT
CATEGORIES:Category,Other,Location,West Dallas Center,Tag,WorkReadyU
DESCRIPTION:Explore Your Future With WorkReadyU! Join a WorkReadyU Program Preview Session to learn about our upcoming Fall 2025 programs, including industry-recognized fast-track certificates, support services and funding opportunities. Education can be the door to your future &amp;mdash; and the entry-level experience gained through our fast-track certificates can be the key to unlocking it. Hear about programs across a variety of industries. Discover entry-level opportunities that support your growth. Learn about support services and financial resources. Attend in person at a Dallas College location Or join virtually via livestream. RSVP online&amp;nbsp;to select your preferred date and location. You&amp;rsquo;ll receive the in-person address or virtual link after registering.135258
DTSTAMP:20260423T023645
DTSTART;TZID=America/Chicago:20251217T130000
DTEND;TZID=America/Chicago:20251217T160000
LOCATION:West Dallas Center
SUMMARY;LANGUAGE=en-us:WorkReadyU Program Preview Session
UID:26abaf2d65d2cc55056cfe7fd6dc09c8@www.dallascollege.edu
END:VEVENT
END:VCALENDAR
