BEGIN:VCALENDAR
VERSION:2.0
X-WR-CALNAME:EventsCalendar
CALSCALE:GREGORIAN
BEGIN:VTIMEZONE
TZID:America/Chicago
LAST-MODIFIED:20231222T233358Z
TZURL:https://www.tzurl.org/zoneinfo-outlook/America/Chicago
X-LIC-LOCATION:America/Chicago
BEGIN:DAYLIGHT
TZNAME:CDT
TZOFFSETFROM:-0600
TZOFFSETTO:-0500
DTSTART:19700308T020000
RRULE:FREQ=YEARLY;BYMONTH=3;BYDAY=2SU
END:DAYLIGHT
BEGIN:STANDARD
TZNAME:CST
TZOFFSETFROM:-0500
TZOFFSETTO:-0600
DTSTART:19701101T020000
RRULE:FREQ=YEARLY;BYMONTH=11;BYDAY=1SU
END:STANDARD
END:VTIMEZONE
BEGIN:VEVENT
CATEGORIES:Category,Seminars and Speakers,Location,All Seven Campuses,Tag,Learning Commons 
DESCRIPTION:Find out how to adjust to new writing styles, reading expectations, and critical thinking demands in college English courses. This workshop offers tools to help you stay flexible and succeed across assignments. Locations: BH&amp;ndash;L376 CV&amp;ndash;C104N EC&amp;ndash;B209 EF&amp;ndash;L208 MV&amp;ndash;W145 NL&amp;ndash;L236 RL&amp;ndash;L107135301
DTSTAMP:20260422T181511
DTSTART;TZID=America/Chicago:20250917T120000
DTEND;TZID=America/Chicago:20250917T130000
LOCATION:All Seven Campuses
SUMMARY;LANGUAGE=en-us:Wednesday Workshops – Adapting to Change in English: Handling Literary Shifts
UID:853055f32c1dedc070dae4161bb338be@www.dallascollege.edu
END:VEVENT
END:VCALENDAR
