BEGIN:VCALENDAR
VERSION:2.0
X-WR-CALNAME:EventsCalendar
CALSCALE:GREGORIAN
BEGIN:VTIMEZONE
TZID:America/Chicago
LAST-MODIFIED:20231222T233358Z
TZURL:https://www.tzurl.org/zoneinfo-outlook/America/Chicago
X-LIC-LOCATION:America/Chicago
BEGIN:DAYLIGHT
TZNAME:CDT
TZOFFSETFROM:-0600
TZOFFSETTO:-0500
DTSTART:19700308T020000
RRULE:FREQ=YEARLY;BYMONTH=3;BYDAY=2SU
END:DAYLIGHT
BEGIN:STANDARD
TZNAME:CST
TZOFFSETFROM:-0500
TZOFFSETTO:-0600
DTSTART:19701101T020000
RRULE:FREQ=YEARLY;BYMONTH=11;BYDAY=1SU
END:STANDARD
END:VTIMEZONE
BEGIN:VEVENT
CATEGORIES:Category,Seminars and Speakers,Location,All Seven Campuses,Tag,Learning Commons 
DESCRIPTION:Discover tools for navigating through your science course. This workshop helps students build skills to navigate rapid advances and shifts in science. Find out how to stay flexible and thrive in a constantly evolving field. Locations: BH&amp;ndash;L376 CV&amp;ndash;C104N EC&amp;ndash;B209 EF&amp;ndash;L208 MV&amp;ndash;W145 NL&amp;ndash;L236 RL&amp;ndash;L107 135302
DTSTAMP:20260422T153646
DTSTART;TZID=America/Chicago:20251001T120000
DTEND;TZID=America/Chicago:20251001T130000
LOCATION:All Seven Campuses
SUMMARY;LANGUAGE=en-us:Wednesday Workshops - Adapting to Change in Science: Using Effective Study Tools
UID:72cf68339c4030c9c746ba0a23c96593@www.dallascollege.edu
END:VEVENT
END:VCALENDAR
