BEGIN:VCALENDAR
VERSION:2.0
X-WR-CALNAME:EventsCalendar
CALSCALE:GREGORIAN
BEGIN:VTIMEZONE
TZID:America/Chicago
LAST-MODIFIED:20231222T233358Z
TZURL:https://www.tzurl.org/zoneinfo-outlook/America/Chicago
X-LIC-LOCATION:America/Chicago
BEGIN:DAYLIGHT
TZNAME:CDT
TZOFFSETFROM:-0600
TZOFFSETTO:-0500
DTSTART:19700308T020000
RRULE:FREQ=YEARLY;BYMONTH=3;BYDAY=2SU
END:DAYLIGHT
BEGIN:STANDARD
TZNAME:CST
TZOFFSETFROM:-0500
TZOFFSETTO:-0600
DTSTART:19701101T020000
RRULE:FREQ=YEARLY;BYMONTH=11;BYDAY=1SU
END:STANDARD
END:VTIMEZONE
BEGIN:VEVENT
CATEGORIES:Category,Seminars and Speakers,Location,All Seven Campuses,Tag,Learning Commons 
DESCRIPTION:Explore how modern libraries are evolving to meet the shifting needs of their communities in a rapidly changing world through offering more digital resources, flexible spaces, and new ways to learn and connect.&amp;nbsp; Locations: BH&amp;ndash;L376 CV&amp;ndash;C104N EC&amp;ndash;B209 EF&amp;ndash;L208 MV&amp;ndash;W145 NL&amp;ndash;L236 RL&amp;ndash;L107135303
DTSTAMP:20260422T161642
DTSTART;TZID=America/Chicago:20251015T120000
DTEND;TZID=America/Chicago:20251015T130000
LOCATION:All Seven Campuses
SUMMARY;LANGUAGE=en-us:Wednesday Workshops – Adapting to Change in Libraries: Leveraging Technology
UID:15e92bf3eaa5cc0c2662093c7339099d@www.dallascollege.edu
END:VEVENT
END:VCALENDAR
