BEGIN:VCALENDAR
VERSION:2.0
X-WR-CALNAME:EventsCalendar
CALSCALE:GREGORIAN
BEGIN:VTIMEZONE
TZID:America/Chicago
LAST-MODIFIED:20231222T233358Z
TZURL:https://www.tzurl.org/zoneinfo-outlook/America/Chicago
X-LIC-LOCATION:America/Chicago
BEGIN:DAYLIGHT
TZNAME:CDT
TZOFFSETFROM:-0600
TZOFFSETTO:-0500
DTSTART:19700308T020000
RRULE:FREQ=YEARLY;BYMONTH=3;BYDAY=2SU
END:DAYLIGHT
BEGIN:STANDARD
TZNAME:CST
TZOFFSETFROM:-0500
TZOFFSETTO:-0600
DTSTART:19701101T020000
RRULE:FREQ=YEARLY;BYMONTH=11;BYDAY=1SU
END:STANDARD
END:VTIMEZONE
BEGIN:VEVENT
CATEGORIES:Category,Seminars and Speakers,Location,All Seven Campuses,Tag,Learning Commons 
DESCRIPTION:College demands different study strategies and adapting is key. This workshop helps you identify what&amp;rsquo;s not working, explore new approaches, and build study habits that fit your learning style and course load. Walk away with practical tools to boost focus, retention, and academic confidence. Locations: BH&amp;ndash;L376 CV&amp;ndash;C104N EC&amp;ndash;B209 EF&amp;ndash;L208 MV&amp;ndash;W145 NL&amp;ndash;L236 RL&amp;ndash;L107135304
DTSTAMP:20260422T153851
DTSTART;TZID=America/Chicago:20251105T120000
DTEND;TZID=America/Chicago:20251105T130000
LOCATION:All Seven Campuses
SUMMARY;LANGUAGE=en-us:Wednesday Workshops – Adapting to Change in Study Skills: Identifying Effective Study Strategies
UID:536e2258e900741dd19b8cda3e908e9e@www.dallascollege.edu
END:VEVENT
END:VCALENDAR
