BEGIN:VCALENDAR
VERSION:2.0
X-WR-CALNAME:EventsCalendar
CALSCALE:GREGORIAN
BEGIN:VTIMEZONE
TZID:America/Chicago
LAST-MODIFIED:20231222T233358Z
TZURL:https://www.tzurl.org/zoneinfo-outlook/America/Chicago
X-LIC-LOCATION:America/Chicago
BEGIN:DAYLIGHT
TZNAME:CDT
TZOFFSETFROM:-0600
TZOFFSETTO:-0500
DTSTART:19700308T020000
RRULE:FREQ=YEARLY;BYMONTH=3;BYDAY=2SU
END:DAYLIGHT
BEGIN:STANDARD
TZNAME:CST
TZOFFSETFROM:-0500
TZOFFSETTO:-0600
DTSTART:19701101T020000
RRULE:FREQ=YEARLY;BYMONTH=11;BYDAY=1SU
END:STANDARD
END:VTIMEZONE
BEGIN:VEVENT
CATEGORIES:Category,Seminars and Speakers,Location,All Seven Campuses,Tag,Learning Commons 
DESCRIPTION:College life is full of transitions &amp;mdash; new environments, routines, and expectations. This workshop offers practical tips and strategies to help you manage change, reduce stress and stay resilient through it all. Locations: BH&amp;ndash;L376 CV&amp;ndash;C104N EC&amp;ndash;B209 EF&amp;ndash;L208 MV&amp;ndash;W145 NL&amp;ndash;L236 RL&amp;ndash;L107135305
DTSTAMP:20260422T124821
DTSTART;TZID=America/Chicago:20251119T120000
DTEND;TZID=America/Chicago:20251119T130000
LOCATION:All Seven Campuses
SUMMARY;LANGUAGE=en-us:Wednesday Workshops – Adapting to Change in College Life: Developing Self-Advocacy
UID:e4bb9b70da25768e48c7f788ac6a59eb@www.dallascollege.edu
END:VEVENT
END:VCALENDAR
