BEGIN:VCALENDAR
VERSION:2.0
X-WR-CALNAME:EventsCalendar
CALSCALE:GREGORIAN
BEGIN:VTIMEZONE
TZID:America/Chicago
LAST-MODIFIED:20231222T233358Z
TZURL:https://www.tzurl.org/zoneinfo-outlook/America/Chicago
X-LIC-LOCATION:America/Chicago
BEGIN:DAYLIGHT
TZNAME:CDT
TZOFFSETFROM:-0600
TZOFFSETTO:-0500
DTSTART:19700308T020000
RRULE:FREQ=YEARLY;BYMONTH=3;BYDAY=2SU
END:DAYLIGHT
BEGIN:STANDARD
TZNAME:CST
TZOFFSETFROM:-0500
TZOFFSETTO:-0600
DTSTART:19701101T020000
RRULE:FREQ=YEARLY;BYMONTH=11;BYDAY=1SU
END:STANDARD
END:VTIMEZONE
BEGIN:VEVENT
CATEGORIES:Category,Seminars and Speakers,Location,Eastfield,Tag,Military-Connected Services
DESCRIPTION:Ready to gain the tools needed to empower you in your transition alongside other veterans? If so, we are excited to roll out our pilot small-group discussion lunch and learn series. Join us for 12 themed, in-person discussions. We are capping the first-ever cohort to 10, so spots are limited!&amp;nbsp;RSVP today to lock in. Location: All sessions will be held at Eastfield Campus in the Military-Connected Services suite, Room B1506.135428
DTSTAMP:20260423T023630
DTSTART;TZID=America/Chicago:20250910T120000
DTEND;TZID=America/Chicago:20250910T130000
LOCATION:Eastfield
SUMMARY;LANGUAGE=en-us:Veteran Wellness Lunch and Learn Series
UID:843f495e7c3280001270d3a78826f938@www.dallascollege.edu
END:VEVENT
BEGIN:VEVENT
CATEGORIES:Category,Seminars and Speakers,Location,Eastfield,Tag,Military-Connected Services
DESCRIPTION:Ready to gain the tools needed to empower you in your transition alongside other veterans? If so, we are excited to roll out our pilot small-group discussion lunch and learn series. Join us for 12 themed, in-person discussions. We are capping the first-ever cohort to 10, so spots are limited!&amp;nbsp;RSVP today to lock in. Location: All sessions will be held at Eastfield Campus in the Military-Connected Services suite, Room B1506.135428
DTSTAMP:20260423T023630
DTSTART;TZID=America/Chicago:20251006T120000
DTEND;TZID=America/Chicago:20251006T130000
LOCATION:Eastfield
SUMMARY;LANGUAGE=en-us:Veteran Wellness Lunch and Learn Series
UID:13374a914c46ea8d08deb8f4e372f9b6@www.dallascollege.edu
END:VEVENT
BEGIN:VEVENT
CATEGORIES:Category,Seminars and Speakers,Location,Eastfield,Tag,Military-Connected Services
DESCRIPTION:Ready to gain the tools needed to empower you in your transition alongside other veterans? If so, we are excited to roll out our pilot small-group discussion lunch and learn series. Join us for 12 themed, in-person discussions. We are capping the first-ever cohort to 10, so spots are limited!&amp;nbsp;RSVP today to lock in. Location: All sessions will be held at Eastfield Campus in the Military-Connected Services suite, Room B1506.135428
DTSTAMP:20260423T023630
DTSTART;TZID=America/Chicago:20251121T120000
DTEND;TZID=America/Chicago:20251121T130000
LOCATION:Eastfield
SUMMARY;LANGUAGE=en-us:Veteran Wellness Lunch and Learn Series
UID:1243bf053cc99f0761cf644380bdb504@www.dallascollege.edu
END:VEVENT
BEGIN:VEVENT
CATEGORIES:Category,Seminars and Speakers,Location,Eastfield,Tag,Military-Connected Services
DESCRIPTION:Ready to gain the tools needed to empower you in your transition alongside other veterans? If so, we are excited to roll out our pilot small-group discussion lunch and learn series. Join us for 12 themed, in-person discussions. We are capping the first-ever cohort to 10, so spots are limited!&amp;nbsp;RSVP today to lock in. Location: All sessions will be held at Eastfield Campus in the Military-Connected Services suite, Room B1506.135428
DTSTAMP:20260423T023630
DTSTART;TZID=America/Chicago:20251208T120000
DTEND;TZID=America/Chicago:20251208T130000
LOCATION:Eastfield
SUMMARY;LANGUAGE=en-us:Veteran Wellness Lunch and Learn Series
UID:c551534fee564684489da105d707b5c4@www.dallascollege.edu
END:VEVENT
END:VCALENDAR
